Workbook

Sheet FEDERAL RATES (HIDDEN)
B2: CEP ISP MULTIPLIER | C2: 1.6 | I2: PERFORMANCE- BASED CASH ASSISTANCE | J2: 0.07
B4: BREAKFAST RATES | C4: SEVERE | E4: NON-SEVERE | G4: PAID | I4: LUNCH RATES | J4: <60% | K4: ≥60% | L4: MAX
C5: FREE | D5: REDUCED | E5: FREE | F5: REDUCED | I5: CONTIGUOUS U.S.
B6: CONTIGUOUS U.S. | C6: 2.2 | D6: 1.9 | E6: 1.84 | F6: 1.54 | G6: 0.31 | I6: FREE | J6: 3.41 | K6: 3.48 | L6: 3.58
B7: ALASKA | C7: 3.53 | D7: 3.23 | E7: 2.95 | F7: 2.65 | G7: 0.47 | I7: REDUCED | J7: 3.01 | K7: 3.08 | L7: 3.18
B8: HAWAII / PUERTO RICO | C8: 2.57 | D8: 2.27 | E8: 2.15 | F8: 1.85 | G8: 0.36 | I8: PAID | J8: 0.32 | K8: 0.39 | L8: 0.4
B10: SNACKS | C10: FREE | D10: REDUCED | E10: PAID | I10: ALASKA
B11: CONTIGUOUS U.S. | C11: 0.94 | D11: 0.47 | E11: 0.08 | I11: FREE | J11: 5.54 | K11: 5.61 | L11: 5.78
B12: ALASKA | C12: 1.52 | D12: 0.76 | E12: 0.13 | I12: REDUCED | J12: 5.14 | K12: 5.21 | L12: 5.38
B13: HAWAII / PUERTO RICO | C13: 1.1 | D13: 0.55 | E13: 0.1 | I13: PAID | J13: 0.53 | K13: 0.6 | L13: 0.63
B15: SUPPER | C15: FREE | D15: REDUCED | E15: PAID | I15: HAWAII
B16: CONTIGUOUS U.S. | C16: 3.41 | D16: 3.01 | E16: 0.32 | I16: FREE | J16: 4 | K16: 4.07 | L16: 4.18
B17: ALASKA | C17: 5.54 | D17: 5.14 | E17: 0.53 | I17: REDUCED | J17: 3.6 | K17: 3.67 | L17: 3.78
B18: HAWAII / PUERTO RICO | C18: 4 | D18: 3.6 | E18: 0.38 | I18: PAID | J18: 0.38 | K18: 0.45 | L18: 0.46
B20: VALUE OF DONATED FOODS | C20: 0.2375
B21: https://www.federalregister.gov/documents/2019/08/07/2019-16903/national-school-lunch-special-milk-and-school-breakfast-programs-national-average-paymentsmaximum#p-31
B22: https://www.federalregister.gov/documents/2019/08/07/2019-16907/child-and-adult-care-food-program-national-average-payment-rates-day-care-home-food-service-payment
B23: https://www.ers.usda.gov/topics/food-nutrition-assistance/child-nutrition-programs/after-school-snacks-and-suppers/
B24: https://www.fns.usda.gov/usda-fis/value-donated-foods-notices

Sheet LANDING PAGE
B10: Welcome to FRAC's Community Eligibility modeling tool. This calculator is designed to help you assess the potential financial benefits of exercising the Community Eligibility Provision in your district. Community eligibility is a powerful tool for high-poverty schools to provide breakfast and lunch at no charge to all students. Community eligibility reduces administrative paperwork for schools so they can focus on providing healthy meals to help students learn and thrive; increases school meal participation by removing stigma; maximizes federal reimbursements; and makes it easier to implement innovative service models like Breakfast in the Classroom.
B12: BEFORE YOU GET STARTED, it will be easiest and most accurate to use the tool and you have a few pieces of district information handy:
B13: 1) District average daily attendance
B14: 2) Your district's identified student percentage (ISP).
B15: For an explanation of ISP, click here.
B16: 3) Your current per meal reimbursement rates.
B17: 4) Your current per meal food and materials expenses.
B18: 5) Your current hourly labor rate.
B20: Once you have this information, click | G20: HERE | H20: to proceed.

Sheet INSTRUCTIONS
B12: INSTRUCTIONS:
B13: THIS CALCULATOR WILL PROVIDE YOU WITH AN OVERVIEW OF THE PARTICIPATION RATES REQUIRED TO BREAK EVEN ON AN AVERAGE DAILY BASIS.
B14: INPUT CELLS ARE INDICATED BY BOLD BLUE FONT.
B15: NUMBERS CAN BE ENTERED TO REPRESENT YOUR ENTIRE DISTRICT, SINGLE SCHOOLS, OR SPECIFIC GROUPINGS OF SCHOOLS.
B16: SPECIFIC NOTES AND GUIDANCE FOR INPUTS CAN BE FOUND IN POP-UP COMMENTS ADJACENT TO INPUT CELLS.
B20: Click | C20: HERE | D20: to proceed to the calculator.

Sheet BREAK-EVEN CALCULATOR
B2: BREAK-EVEN CALCULATOR | L2: REVENUES
L3: BREAKFAST | M3: =IF($D$18=0,0,HLOOKUP($D$18,'PARTICIPATION RATE TABLES'!$B$2:$CW$11,6,FALSE)*$D$5) -> 1493152.2
B4: ANALYSIS LEVEL: | D4: DISTRICT | L4: SNACK | M4: =IF($F$18=0,0,HLOOKUP($F$18,'PARTICIPATION RATE TABLES'!$B$13:$CW$22,6,FALSE)*$D$5) -> 0
B5: ="ANNUAL OPERATING DAYS FOR YOUR "&$D$4 -> ANNUAL OPERATING DAYS FOR YOUR DISTRICT | D5: 180 | L5: LUNCH | M5: =IF($H$18=0,0,HLOOKUP($H$18,'PARTICIPATION RATE TABLES'!$B$24:$CW$33,6,FALSE)*$D$5) -> 2650401
B6: ="AVERAGE DAILY STUDENT ATTENDANCE IN YOUR "&$D$4 -> AVERAGE DAILY STUDENT ATTENDANCE IN YOUR DISTRICT | D6: 5100 | L6: SUPPER | M6: =IF($J$18=0,0,HLOOKUP($J$18,'PARTICIPATION RATE TABLES'!$B$35:$CW$44,6,FALSE)*$D$5) -> 1007695.8
B7: ="ISP % IN YOUR "&$D$4 -> ISP % IN YOUR DISTRICT | D7: 0.57 | L7: OTHER REVENUES | M7: 0
B8: ="FREE-RATE REIMBURSEABLE % IN YOUR "&$D$4 -> FREE-RATE REIMBURSEABLE % IN YOUR DISTRICT | D8: =IF(D7>=0.4,MIN(D7*'FEDERAL RATES (HIDDEN)'!C2,1),D7) -> 0.912 | L8: TOTAL REVENUES | M8: =SUM(M3:M7) -> 5151249
B9: ="PAID-RATE REIMBURSEABLE % IN YOUR "&$D$4 -> PAID-RATE REIMBURSEABLE % IN YOUR DISTRICT | D9: =1-D8 -> 0.088
L10: EXPENSES
D11: BREAKFAST | F11: SNACK | H11: LUNCH | J11: SUPPER
B12: INCLUDE IN ANALYSIS? | D12: TRUE | F12: TRUE | H12: TRUE | J12: TRUE | L12: FOOD & MATERIALS EXPENSE
B13: FEDERAL & STATE REIMBURSEMENT: FREE RATE | D13: 2.2 | F13: 0.94 | H13: 3.48 | J13: 3.41 | L13: BREAKFAST | M13: =IF(D18=0,0,HLOOKUP($D$18,'PARTICIPATION RATE TABLES'!$B$2:$CW$11,7,FALSE)*$D$5) -> 1101330
B14: FEDERAL & STATE REIMBURSEMENT: PAID RATE | D14: 0.31 | F14: 0.08 | H14: 0.39 | J14: 0.32 | L14: SNACK | M14: =IF($F$18=0,0,HLOOKUP($F$18,'PARTICIPATION RATE TABLES'!$B$13:$CW$22,7,FALSE)*$D$5) -> 0
B15: PER MEAL FOOD & MATERIALS EXPENSE | D15: 1.5 | F15: 0.6 | H15: 2.25 | J15: 2.25 | L15: LUNCH | M15: =IF($H$18=0,0,HLOOKUP($H$18,'PARTICIPATION RATE TABLES'!$B$24:$CW$33,7,FALSE)*$D$5) -> 1858545
B16: MEAL OVERPRODUCTION / WASTAGE RATE | D16: 0 | F16: 0 | H16: 0 | J16: 0 | L16: SUPPER | M16: =IF($J$18=0,0,HLOOKUP($J$18,'PARTICIPATION RATE TABLES'!$B$35:$CW$44,7,FALSE)*$D$5) -> 722520
L17: TOTAL FOOD & MATERIALS EXPENSE | M17: =SUM(M13:M16) -> 3682395
B18: EXPECTED PARTICIPATION RATE | D18: 0.8 | F18: 0 | H18: 0.9 | J18: 0.35
L19: DIRECT LABOR EXPENSE
B20: LABOR EXPENSE | L20: BREAKFAST | M20: =IF($D$18=0,0,HLOOKUP($D$18,'PARTICIPATION RATE TABLES'!$B$2:$CW$11,8,FALSE)*$D$5) -> 358952
B21: ="AVERAGE MEALS PRODUCED PER LABOR HOUR IN YOUR "&$D$4 -> AVERAGE MEALS PRODUCED PER LABOR HOUR IN YOUR DISTRICT | D21: 18 | L21: SNACK | M21: =IF($F$18=0,0,HLOOKUP($F$18,'PARTICIPATION RATE TABLES'!$B$13:$CW$22,8,FALSE)*$D$5) -> 0
B22: ="AVERAGE HOURLY DIRECT LABOR WAGE IN YOUR "&$D$4 -> AVERAGE HOURLY DIRECT LABOR WAGE IN YOUR DISTRICT | D22: 10 | L22: LUNCH | M22: =IF($H$18=0,0,HLOOKUP($H$18,'PARTICIPATION RATE TABLES'!$B$24:$CW$33,8,FALSE)*$D$5) -> 605748
B23: BENEFITS | D23: 0.2 | L23: SUPPER | M23: =IF($J$18=0,0,HLOOKUP($J$18,'PARTICIPATION RATE TABLES'!$B$35:$CW$44,8,FALSE)*$D$5) -> 235488
B24: FICA / PAYROLL TAX % | D24: 0.12 | L24: TOTAL DIRECT LABOR EXPENSE | M24: =SUM(M20:M23) -> 1200188
B25: ="ANNUAL ADMINISTRATIVE SALARY EXPENSE FOR YOUR "&$D$4 -> ANNUAL ADMINISTRATIVE SALARY EXPENSE FOR YOUR DISTRICT | D25: 60000
L26: OTHER EXPENSES
B27: OTHER EXPENSES | L27: ="ANNUAL ADMINISTRATIVE SALARY EXPENSE FOR YOUR "&$D$4 -> ANNUAL ADMINISTRATIVE SALARY EXPENSE FOR YOUR DISTRICT | M27: =D25+(D25*D23)+(D25*D24) -> 79200
B28: ="ANNUAL OVERHEAD EXPENSE FOR YOUR "&$D$4 -> ANNUAL OVERHEAD EXPENSE FOR YOUR DISTRICT | D28: 5000 | L28: ="ANNUAL OVERHEAD EXPENSE FOR YOUR "&$D$4 -> ANNUAL OVERHEAD EXPENSE FOR YOUR DISTRICT | M28: =D28 -> 5000
B29: ANNUAL UTILITIES | D29: 5000 | L29: ="ANNUAL UTILITIES EXPENSE FOR YOUR "&$D$4 -> ANNUAL UTILITIES EXPENSE FOR YOUR DISTRICT | M29: =D29 -> 5000
B30: ANNUAL MAINTENANCE EXPENSE | D30: 5000 | L30: ="ANNUAL MAINTENANCE EXPENSE FOR YOUR "&$D$4 -> ANNUAL MAINTENANCE EXPENSE FOR YOUR DISTRICT | M30: =D30 -> 5000
B31: OTHER EXPENSES | D31: 0 | L31: OTHER EXPENSES | M31: =D31 -> 0
L32: TOTAL DIRECT LABOR EXPENSE | M32: =SUM(M27:M31) -> 94200
L34: TOTAL EXPENSES | M34: =SUM(M17,M24,M32) -> 4976783
L36: NET INCOME | M36: =M8-M34 -> 174466

Sheet LISTS
A1: 0
A2: 0.01
A3: 0.02
A4: 0.03
A5: 0.04
A6: 0.05
A7: 0.06
A8: 0.07
A9: 0.08
A10: 0.09
A11: 0.1
A12: 0.11
... A101: 1

Sheet PARTICIPATION RATE TABLES
B1: 0.01 | C1: 0.02 | D1: 0.03 | E1: 0.04 | F1: 0.05 | G1: 0.06 | H1: 0.07 | I1: 0.08 | J1: 0.09 | K1: 0.1 | L1: 0.11 | M1: 0.12 | N1: 0.13 | O1: 0.14 | P1: 0.15 | Q1: 0.16 | R1: 0.17 | S1: 0.18 | T1: 0.19 | U1: 0.2 | V1: 0.21 | W1: 0.22 | X1: 0.23 | Y1: 0.24 | Z1: 0.25 | AA1: 0.26 | AB1: 0.27 | AC1: 0.28 | AD1: 0.29 | AE1: 0.3 | AF1: 0.31 | AG1: 0.32 | AH1: 0.33 | AI1: 0.34 | AJ1: 0.35 | AK1: 0.36 | AL1: 0.37 | AM1: 0.38 | AN1: 0.39 | AO1: 0.4 | AP1: 0.41 | AQ1: 0.42 | AR1: 0.43 | AS1: 0.44 | AT1: 0.45 | AU1: 0.46 | AV1: 0.47 | AW1: 0.48 | AX1: 0.49 | AY1: 0.5 | AZ1: 0.51 | BA1: 0.52 | BB1: 0.53 | BC1: 0.54 | BD1: 0.55 | BE1: 0.56 | BF1: 0.57 | BG1: 0.58 | BH1: 0.59 | BI1: 0.6 | BJ1: 0.61 | BK1: 0.62 | BL1: 0.63 | BM1: 0.64 | BN1: 0.65 | BO1: 0.66 | BP1: 0.67 | BQ1: 0.68 | BR1: 0.69 | BS1: 0.7 | BT1: 0.71 | BU1: 0.72 | BV1: 0.73 | BW1: 0.74 | BX1: 0.75 | BY1: 0.76 | BZ1: 0.77 | CA1: 0.78 | CB1: 0.79 | CC1: 0.8 | CD1: 0.81 | CE1: 0.82 | CF1: 0.83 | CG1: 0.84 | CH1: 0.85 | CI1: 0.86 | CJ1: 0.87 | CK1: 0.88 | CL1: 0.89 | CM1: 0.9 | CN1: 0.91 | CO1: 0.92 | CP1: 0.93 | CQ1: 0.94 | CR1: 0.95 | CS1: 0.96 | CT1: 0.97 | CU1: 0.98 | CV1: 0.99 | CW1: 1
A2: BREAKFAST PARTICIPATION RATE | B2: 0.01 | C2: 0.02 | D2: 0.03 | E2: 0.04 | F2: 0.05 | G2: 0.06 | H2: 0.07 | I2: 0.08 | J2: 0.09 | K2: 0.1 | L2: 0.11 | M2: 0.12 | N2: 0.13 | O2: 0.14 | P2: 0.15 | Q2: 0.16 | R2: 0.17 | S2: 0.18 | T2: 0.19 | U2: 0.2 | V2: 0.21 | W2: 0.22 | X2: 0.23 | Y2: 0.24 | Z2: 0.25 | AA2: 0.26 | AB2: 0.27 | AC2: 0.28 | AD2: 0.29 | AE2: 0.3 | AF2: 0.31 | AG2: 0.32 | AH2: 0.33 | AI2: 0.34 | AJ2: 0.35 | AK2: 0.36 | AL2: 0.37 | AM2: 0.38 | AN2: 0.39 | AO2: 0.4 | AP2: 0.41 | AQ2: 0.42 | AR2: 0.43 | AS2: 0.44 | AT2: 0.45 | AU2: 0.46 | AV2: 0.47 | AW2: 0.48 | AX2: 0.49 | AY2: 0.5 | AZ2: 0.51 | BA2: 0.52 | BB2: 0.53 | BC2: 0.54 | BD2: 0.55 | BE2: 0.56 | BF2: 0.57 | BG2: 0.58 | BH2: 0.59 | BI2: 0.6 | BJ2: 0.61 | BK2: 0.62 | BL2: 0.63 | BM2: 0.64 | BN2: 0.65 | BO2: 0.66 | BP2: 0.67 | BQ2: 0.68 | BR2: 0.69 | BS2: 0.7 | BT2: 0.71 | BU2: 0.72 | BV2: 0.73 | BW2: 0.74 | BX2: 0.75 | BY2: 0.76 | BZ2: 0.77 | CA2: 0.78 | CB2: 0.79 | CC2: 0.8 | CD2: 0.81 | CE2: 0.82 | CF2: 0.83 | CG2: 0.84 | CH2: 0.85 | CI2: 0.86 | CJ2: 0.87 | CK2: 0.88 | CL2: 0.89 | CM2: 0.9 | CN2: 0.91 | CO2: 0.92 | CP2: 0.93 | CQ2: 0.94 | CR2: 0.95 | CS2: 0.96 | CT2: 0.97 | CU2: 0.98 | CV2: 0.99 | CW2: 1
A3: DAILY FREE-RATE MEALS | B3: =IF('BREAK-EVEN CALCULATOR'!$D$12=TRUE,ROUNDDOWN('BREAK-EVEN CALCULATOR'!$D$6*'BREAK-EVEN CALCULATOR'!$D$8*B$2,0),0) -> 46 | C3: =IF('BREAK-EVEN CALCULATOR'!$D$12=TRUE,ROUNDDOWN('BREAK-EVEN CALCULATOR'!$D$6*'BREAK-EVEN CALCULATOR'!$D$8*C$2,0),0) -> 93 | D3: =IF('BREAK-EVEN CALCULATOR'!$D$12=TRUE,ROUNDDOWN('BREAK-EVEN CALCULATOR'!$D$6*'BREAK-EVEN CALCULATOR'!$D$8*D$2,0),0) -> 139 | E3: =IF('BREAK-EVEN CALCULATOR'!$D$12=TRUE,ROUNDDOWN('BREAK-EVEN CALCULATOR'!$D$6*'BREAK-EVEN CALCULATOR'!$D$8*E$2,0),0) -> 186 | F3: =IF('BREAK-EVEN CALCULATOR'!$D$12=TRUE,ROUNDDOWN('BREAK-EVEN CALCULATOR'!$D$6*'BREAK-EVEN CALCULATOR'!$D$8*F$2,0),0) -> 232 | G3: =IF('BREAK-EVEN CALCULATOR'!$D$12=TRUE,ROUNDDOWN('BREAK-EVEN CALCULATOR'!$D$6*'BREAK-EVEN CALCULATOR'!$D$8*G$2,0),0) -> 279 | H3: =IF('BREAK-EVEN CALCULATOR'!$D$12=TRUE,ROUNDDOWN('BREAK-EVEN CALCULATOR'!$D$6*'BREAK-EVEN CALCULATOR'!$D$8*H$2,0),0) -> 325 | I3: =IF('BREAK-EVEN CALCULATOR'!$D$12=TRUE,ROUNDDOWN('BREAK-EVEN CALCULATOR'!$D$6*'BREAK-EVEN CALCULATOR'!$D$8*I$2,0),0) -> 372 | ... CW3: =IF('BREAK-EVEN CALCULATOR'!$D$12=TRUE,ROUNDDOWN('BREAK-EVEN CALCULATOR'!$D$6*'BREAK-EVEN CALCULATOR'!$D$8*CW$2,0),0) -> 4651
A4: DAILY PAID-RATE MEALS | B4: =IF('BREAK-EVEN CALCULATOR'!$D$12=TRUE,ROUNDDOWN('BREAK-EVEN CALCULATOR'!$D$6*'BREAK-EVEN CALCULATOR'!$D$9*B$2,0),0) -> 4 | C4: =IF('BREAK-EVEN CALCULATOR'!$D$12=TRUE,ROUNDDOWN('BREAK-EVEN CALCULATOR'!$D$6*'BREAK-EVEN CALCULATOR'!$D$9*C$2,0),0) -> 8 | D4: =IF('BREAK-EVEN CALCULATOR'!$D$12=TRUE,ROUNDDOWN('BREAK-EVEN CALCULATOR'!$D$6*'BREAK-EVEN CALCULATOR'!$D$9*D$2,0),0) -> 13 | E4: =IF('BREAK-EVEN CALCULATOR'!$D$12=TRUE,ROUNDDOWN('BREAK-EVEN CALCULATOR'!$D$6*'BREAK-EVEN CALCULATOR'!$D$9*E$2,0),0) -> 17 | F4: =IF('BREAK-EVEN CALCULATOR'!$D$12=TRUE,ROUNDDOWN('BREAK-EVEN CALCULATOR'!$D$6*'BREAK-EVEN CALCULATOR'!$D$9*F$2,0),0) -> 22 | G4: =IF('BREAK-EVEN CALCULATOR'!$D$12=TRUE,ROUNDDOWN('BREAK-EVEN CALCULATOR'!$D$6*'BREAK-EVEN CALCULATOR'!$D$9*G$2,0),0) -> 26 | H4: =IF('BREAK-EVEN CALCULATOR'!$D$12=TRUE,ROUNDDOWN('BREAK-EVEN CALCULATOR'!$D$6*'BREAK-EVEN CALCULATOR'!$D$9*H$2,0),0) -> 31 | I4: =IF('BREAK-EVEN CALCULATOR'!$D$12=TRUE,ROUNDDOWN('BREAK-EVEN CALCULATOR'!$D$6*'BREAK-EVEN CALCULATOR'!$D$9*I$2,0),0) -> 35 | ... CW4: =IF('BREAK-EVEN CALCULATOR'!$D$12=TRUE,ROUNDDOWN('BREAK-EVEN CALCULATOR'!$D$6*'BREAK-EVEN CALCULATOR'!$D$9*CW$2,0),0) -> 448
A5: DAILY MEAL EQUIVALENTS | B5: =IF('BREAK-EVEN CALCULATOR'!$D$12=TRUE,SUM(B$3:B$4)*(2/3),0) -> 33.333333 | C5: =IF('BREAK-EVEN CALCULATOR'!$D$12=TRUE,SUM(C$3:C$4)*(2/3),0) -> 67.333333 | D5: =IF('BREAK-EVEN CALCULATOR'!$D$12=TRUE,SUM(D$3:D$4)*(2/3),0) -> 101.33333 | E5: =IF('BREAK-EVEN CALCULATOR'!$D$12=TRUE,SUM(E$3:E$4)*(2/3),0) -> 135.33333 | F5: =IF('BREAK-EVEN CALCULATOR'!$D$12=TRUE,SUM(F$3:F$4)*(2/3),0) -> 169.33333 | G5: =IF('BREAK-EVEN CALCULATOR'!$D$12=TRUE,SUM(G$3:G$4)*(2/3),0) -> 203.33333 | H5: =IF('BREAK-EVEN CALCULATOR'!$D$12=TRUE,SUM(H$3:H$4)*(2/3),0) -> 237.33333 | I5: =IF('BREAK-EVEN CALCULATOR'!$D$12=TRUE,SUM(I$3:I$4)*(2/3),0) -> 271.33333 | ... CW5: =IF('BREAK-EVEN CALCULATOR'!$D$12=TRUE,SUM(CW$3:CW$4)*(2/3),0) -> 3399.3333
A6: DAILY LABOR HOURS | B6: =IF('BREAK-EVEN CALCULATOR'!$D$12=TRUE,B$5/'BREAK-EVEN CALCULATOR'!$D$21,0) -> 1.8518519 | C6: =IF('BREAK-EVEN CALCULATOR'!$D$12=TRUE,C$5/'BREAK-EVEN CALCULATOR'!$D$21,0) -> 3.7407407 | D6: =IF('BREAK-EVEN CALCULATOR'!$D$12=TRUE,D$5/'BREAK-EVEN CALCULATOR'!$D$21,0) -> 5.6296296 | E6: =IF('BREAK-EVEN CALCULATOR'!$D$12=TRUE,E$5/'BREAK-EVEN CALCULATOR'!$D$21,0) -> 7.5185185 | F6: =IF('BREAK-EVEN CALCULATOR'!$D$12=TRUE,F$5/'BREAK-EVEN CALCULATOR'!$D$21,0) -> 9.4074074 | G6: =IF('BREAK-EVEN CALCULATOR'!$D$12=TRUE,G$5/'BREAK-EVEN CALCULATOR'!$D$21,0) -> 11.296296 | H6: =IF('BREAK-EVEN CALCULATOR'!$D$12=TRUE,H$5/'BREAK-EVEN CALCULATOR'!$D$21,0) -> 13.185185 | I6: =IF('BREAK-EVEN CALCULATOR'!$D$12=TRUE,I$5/'BREAK-EVEN CALCULATOR'!$D$21,0) -> 15.074074 | ... CW6: =IF('BREAK-EVEN CALCULATOR'!$D$12=TRUE,CW$5/'BREAK-EVEN CALCULATOR'!$D$21,0) -> 188.85185
A7: DAILY REIMBURSEMENTS | B7: =IF('BREAK-EVEN CALCULATOR'!$D$12=TRUE,(B$3*'BREAK-EVEN CALCULATOR'!$D$13)+(B$4*'BREAK-EVEN CALCULATOR'!$D$14),0) -> 102.44 | C7: =IF('BREAK-EVEN CALCULATOR'!$D$12=TRUE,(C$3*'BREAK-EVEN CALCULATOR'!$D$13)+(C$4*'BREAK-EVEN CALCULATOR'!$D$14),0) -> 207.08 | D7: =IF('BREAK-EVEN CALCULATOR'!$D$12=TRUE,(D$3*'BREAK-EVEN CALCULATOR'!$D$13)+(D$4*'BREAK-EVEN CALCULATOR'!$D$14),0) -> 309.83 | E7: =IF('BREAK-EVEN CALCULATOR'!$D$12=TRUE,(E$3*'BREAK-EVEN CALCULATOR'!$D$13)+(E$4*'BREAK-EVEN CALCULATOR'!$D$14),0) -> 414.47 | F7: =IF('BREAK-EVEN CALCULATOR'!$D$12=TRUE,(F$3*'BREAK-EVEN CALCULATOR'!$D$13)+(F$4*'BREAK-EVEN CALCULATOR'!$D$14),0) -> 517.22 | G7: =IF('BREAK-EVEN CALCULATOR'!$D$12=TRUE,(G$3*'BREAK-EVEN CALCULATOR'!$D$13)+(G$4*'BREAK-EVEN CALCULATOR'!$D$14),0) -> 621.86 | H7: =IF('BREAK-EVEN CALCULATOR'!$D$12=TRUE,(H$3*'BREAK-EVEN CALCULATOR'!$D$13)+(H$4*'BREAK-EVEN CALCULATOR'!$D$14),0) -> 724.61 | I7: =IF('BREAK-EVEN CALCULATOR'!$D$12=TRUE,(I$3*'BREAK-EVEN CALCULATOR'!$D$13)+(I$4*'BREAK-EVEN CALCULATOR'!$D$14),0) -> 829.25 | ... CW7: =IF('BREAK-EVEN CALCULATOR'!$D$12=TRUE,(CW$3*'BREAK-EVEN CALCULATOR'!$D$13)+(CW$4*'BREAK-EVEN CALCULATOR'!$D$14),0) -> 10371.08
A8: DAILY FOOD & MATERIALS COST | B8: =IF('BREAK-EVEN CALCULATOR'!$D$12=TRUE,(SUM(B$3:B$4)*(1+'BREAK-EVEN CALCULATOR'!$D$16))*'BREAK-EVEN CALCULATOR'!$D$15,0) -> 75 | C8: =IF('BREAK-EVEN CALCULATOR'!$D$12=TRUE,(SUM(C$3:C$4)*(1+'BREAK-EVEN CALCULATOR'!$D$16))*'BREAK-EVEN CALCULATOR'!$D$15,0) -> 151.5 | D8: =IF('BREAK-EVEN CALCULATOR'!$D$12=TRUE,(SUM(D$3:D$4)*(1+'BREAK-EVEN CALCULATOR'!$D$16))*'BREAK-EVEN CALCULATOR'!$D$15,0) -> 228 | E8: =IF('BREAK-EVEN CALCULATOR'!$D$12=TRUE,(SUM(E$3:E$4)*(1+'BREAK-EVEN CALCULATOR'!$D$16))*'BREAK-EVEN CALCULATOR'!$D$15,0) -> 304.5 | F8: =IF('BREAK-EVEN CALCULATOR'!$D$12=TRUE,(SUM(F$3:F$4)*(1+'BREAK-EVEN CALCULATOR'!$D$16))*'BREAK-EVEN CALCULATOR'!$D$15,0) -> 381 | G8: =IF('BREAK-EVEN CALCULATOR'!$D$12=TRUE,(SUM(G$3:G$4)*(1+'BREAK-EVEN CALCULATOR'!$D$16))*'BREAK-EVEN CALCULATOR'!$D$15,0) -> 457.5 | H8: =IF('BREAK-EVEN CALCULATOR'!$D$12=TRUE,(SUM(H$3:H$4)*(1+'BREAK-EVEN CALCULATOR'!$D$16))*'BREAK-EVEN CALCULATOR'!$D$15,0) -> 534 | I8: =IF('BREAK-EVEN CALCULATOR'!$D$12=TRUE,(SUM(I$3:I$4)*(1+'BREAK-EVEN CALCULATOR'!$D$16))*'BREAK-EVEN CALCULATOR'!$D$15,0) -> 610.5 | ... CW8: =IF('BREAK-EVEN CALCULATOR'!$D$12=TRUE,(SUM(CW$3:CW$4)*(1+'BREAK-EVEN CALCULATOR'!$D$16))*'BREAK-EVEN CALCULATOR'!$D$15,0) -> 7648.5
A9: DIRECT LABOR EXPENSE | B9: =IF('BREAK-EVEN CALCULATOR'!$D$12=TRUE,B$6*('BREAK-EVEN CALCULATOR'!$D$22+('BREAK-EVEN CALCULATOR'!$D$22*'BREAK-EVEN CALCULATOR'!$D$23)+('BREAK-EVEN CALCULATOR'!$D$22*'BREAK-EVEN CALCULATOR'!$D$24)),0) -> 24.444444 | C9: =IF('BREAK-EVEN CALCULATOR'!$D$12=TRUE,C$6*('BREAK-EVEN CALCULATOR'!$D$22+('BREAK-EVEN CALCULATOR'!$D$22*'BREAK-EVEN CALCULATOR'!$D$23)+('BREAK-EVEN CALCULATOR'!$D$22*'BREAK-EVEN CALCULATOR'!$D$24)),0) -> 49.377778 | D9: =IF('BREAK-EVEN CALCULATOR'!$D$12=TRUE,D$6*('BREAK-EVEN CALCULATOR'!$D$22+('BREAK-EVEN CALCULATOR'!$D$22*'BREAK-EVEN CALCULATOR'!$D$23)+('BREAK-EVEN CALCULATOR'!$D$22*'BREAK-EVEN CALCULATOR'!$D$24)),0) -> 74.311111 | E9: =IF('BREAK-EVEN CALCULATOR'!$D$12=TRUE,E$6*('BREAK-EVEN CALCULATOR'!$D$22+('BREAK-EVEN CALCULATOR'!$D$22*'BREAK-EVEN CALCULATOR'!$D$23)+('BREAK-EVEN CALCULATOR'!$D$22*'BREAK-EVEN CALCULATOR'!$D$24)),0) -> 99.244444 | F9: =IF('BREAK-EVEN CALCULATOR'!$D$12=TRUE,F$6*('BREAK-EVEN CALCULATOR'!$D$22+('BREAK-EVEN CALCULATOR'!$D$22*'BREAK-EVEN CALCULATOR'!$D$23)+('BREAK-EVEN CALCULATOR'!$D$22*'BREAK-EVEN CALCULATOR'!$D$24)),0) -> 124.17778 | G9: =IF('BREAK-EVEN CALCULATOR'!$D$12=TRUE,G$6*('BREAK-EVEN CALCULATOR'!$D$22+('BREAK-EVEN CALCULATOR'!$D$22*'BREAK-EVEN CALCULATOR'!$D$23)+('BREAK-EVEN CALCULATOR'!$D$22*'BREAK-EVEN CALCULATOR'!$D$24)),0) -> 149.11111 | H9: =IF('BREAK-EVEN CALCULATOR'!$D$12=TRUE,H$6*('BREAK-EVEN CALCULATOR'!$D$22+('BREAK-EVEN CALCULATOR'!$D$22*'BREAK-EVEN CALCULATOR'!$D$23)+('BREAK-EVEN CALCULATOR'!$D$22*'BREAK-EVEN CALCULATOR'!$D$24)),0) -> 174.04444 | I9: =IF('BREAK-EVEN CALCULATOR'!$D$12=TRUE,I$6*('BREAK-EVEN CALCULATOR'!$D$22+('BREAK-EVEN CALCULATOR'!$D$22*'BREAK-EVEN CALCULATOR'!$D$23)+('BREAK-EVEN CALCULATOR'!$D$22*'BREAK-EVEN CALCULATOR'!$D$24)),0) -> 198.97778 | ... CW9: =IF('BREAK-EVEN CALCULATOR'!$D$12=TRUE,CW$6*('BREAK-EVEN CALCULATOR'!$D$22+('BREAK-EVEN CALCULATOR'!$D$22*'BREAK-EVEN CALCULATOR'!$D$23)+('BREAK-EVEN CALCULATOR'!$D$22*'BREAK-EVEN CALCULATOR'!$D$24)),0) -> 2492.8444
A10: DAILY CONTRIBUTION MARGIN | B10: =B7-SUM(B8:B9) -> 2.9955556 | C10: =C7-SUM(C8:C9) -> 6.2022222 | D10: =D7-SUM(D8:D9) -> 7.5188889 | E10: =E7-SUM(E8:E9) -> 10.725556 | F10: =F7-SUM(F8:F9) -> 12.042222 | G10: =G7-SUM(G8:G9) -> 15.248889 | H10: =H7-SUM(H8:H9) -> 16.565556 | I10: =I7-SUM(I8:I9) -> 19.772222 | ... CW10: =CW7-SUM(CW8:CW9) -> 229.73556
A11: ANNUAL CONTRIBUTION MARGIN | B11: ='BREAK-EVEN CALCULATOR'!$D$5*B10 -> 539.2 | C11: ='BREAK-EVEN CALCULATOR'!$D$5*C10 -> 1116.4 | D11: ='BREAK-EVEN CALCULATOR'!$D$5*D10 -> 1353.4 | E11: ='BREAK-EVEN CALCULATOR'!$D$5*E10 -> 1930.6 | F11: ='BREAK-EVEN CALCULATOR'!$D$5*F10 -> 2167.6 | G11: ='BREAK-EVEN CALCULATOR'!$D$5*G10 -> 2744.8 | H11: ='BREAK-EVEN CALCULATOR'!$D$5*H10 -> 2981.8 | I11: ='BREAK-EVEN CALCULATOR'!$D$5*I10 -> 3559 | ... CW11: ='BREAK-EVEN CALCULATOR'!$D$5*CW10 -> 41352.4
A13: SNACK PARTICIPATION RATE | B13: 0.01 | C13: 0.02 | D13: 0.03 | E13: 0.04 | F13: 0.05 | G13: 0.06 | H13: 0.07 | I13: 0.08 | J13: 0.09 | K13: 0.1 | L13: 0.11 | M13: 0.12 | N13: 0.13 | O13: 0.14 | P13: 0.15 | Q13: 0.16 | R13: 0.17 | S13: 0.18 | T13: 0.19 | U13: 0.2 | V13: 0.21 | W13: 0.22 | X13: 0.23 | Y13: 0.24 | Z13: 0.25 | AA13: 0.26 | AB13: 0.27 | AC13: 0.28 | AD13: 0.29 | AE13: 0.3 | AF13: 0.31 | AG13: 0.32 | AH13: 0.33 | AI13: 0.34 | AJ13: 0.35 | AK13: 0.36 | AL13: 0.37 | AM13: 0.38 | AN13: 0.39 | AO13: 0.4 | AP13: 0.41 | AQ13: 0.42 | AR13: 0.43 | AS13: 0.44 | AT13: 0.45 | AU13: 0.46 | AV13: 0.47 | AW13: 0.48 | AX13: 0.49 | AY13: 0.5 | AZ13: 0.51 | BA13: 0.52 | BB13: 0.53 | BC13: 0.54 | BD13: 0.55 | BE13: 0.56 | BF13: 0.57 | BG13: 0.58 | BH13: 0.59 | BI13: 0.6 | BJ13: 0.61 | BK13: 0.62 | BL13: 0.63 | BM13: 0.64 | BN13: 0.65 | BO13: 0.66 | BP13: 0.67 | BQ13: 0.68 | BR13: 0.69 | BS13: 0.7 | BT13: 0.71 | BU13: 0.72 | BV13: 0.73 | BW13: 0.74 | BX13: 0.75 | BY13: 0.76 | BZ13: 0.77 | CA13: 0.78 | CB13: 0.79 | CC13: 0.8 | CD13: 0.81 | CE13: 0.82 | CF13: 0.83 | CG13: 0.84 | CH13: 0.85 | CI13: 0.86 | CJ13: 0.87 | CK13: 0.88 | CL13: 0.89 | CM13: 0.9 | CN13: 0.91 | CO13: 0.92 | CP13: 0.93 | CQ13: 0.94 | CR13: 0.95 | CS13: 0.96 | CT13: 0.97 | CU13: 0.98 | CV13: 0.99 | CW13: 1
A14: DAILY FREE-RATE MEALS | B14: =IF('BREAK-EVEN CALCULATOR'!$F$12=TRUE,ROUNDDOWN('BREAK-EVEN CALCULATOR'!$D$6*'BREAK-EVEN CALCULATOR'!$D$8*B$13,0),0) -> 46 | C14: =IF('BREAK-EVEN CALCULATOR'!$F$12=TRUE,ROUNDDOWN('BREAK-EVEN CALCULATOR'!$D$6*'BREAK-EVEN CALCULATOR'!$D$8*C$13,0),0) -> 93 | D14: =IF('BREAK-EVEN CALCULATOR'!$F$12=TRUE,ROUNDDOWN('BREAK-EVEN CALCULATOR'!$D$6*'BREAK-EVEN CALCULATOR'!$D$8*D$13,0),0) -> 139 | E14: =IF('BREAK-EVEN CALCULATOR'!$F$12=TRUE,ROUNDDOWN('BREAK-EVEN CALCULATOR'!$D$6*'BREAK-EVEN CALCULATOR'!$D$8*E$13,0),0) -> 186 | F14: =IF('BREAK-EVEN CALCULATOR'!$F$12=TRUE,ROUNDDOWN('BREAK-EVEN CALCULATOR'!$D$6*'BREAK-EVEN CALCULATOR'!$D$8*F$13,0),0) -> 232 | G14: =IF('BREAK-EVEN CALCULATOR'!$F$12=TRUE,ROUNDDOWN('BREAK-EVEN CALCULATOR'!$D$6*'BREAK-EVEN CALCULATOR'!$D$8*G$13,0),0) -> 279 | H14: =IF('BREAK-EVEN CALCULATOR'!$F$12=TRUE,ROUNDDOWN('BREAK-EVEN CALCULATOR'!$D$6*'BREAK-EVEN CALCULATOR'!$D$8*H$13,0),0) -> 325 | I14: =IF('BREAK-EVEN CALCULATOR'!$F$12=TRUE,ROUNDDOWN('BREAK-EVEN CALCULATOR'!$D$6*'BREAK-EVEN CALCULATOR'!$D$8*I$13,0),0) -> 372 | ... CW14: =IF('BREAK-EVEN CALCULATOR'!$F$12=TRUE,ROUNDDOWN('BREAK-EVEN CALCULATOR'!$D$6*'BREAK-EVEN CALCULATOR'!$D$8*CW$13,0),0) -> 4651
A15: DAILY PAID-RATE MEALS | B15: =IF('BREAK-EVEN CALCULATOR'!$F$12=TRUE,ROUNDDOWN('BREAK-EVEN CALCULATOR'!$D$6*'BREAK-EVEN CALCULATOR'!$D$9*B$13,0),0) -> 4 | C15: =IF('BREAK-EVEN CALCULATOR'!$F$12=TRUE,ROUNDDOWN('BREAK-EVEN CALCULATOR'!$D$6*'BREAK-EVEN CALCULATOR'!$D$9*C$13,0),0) -> 8 | D15: =IF('BREAK-EVEN CALCULATOR'!$F$12=TRUE,ROUNDDOWN('BREAK-EVEN CALCULATOR'!$D$6*'BREAK-EVEN CALCULATOR'!$D$9*D$13,0),0) -> 13 | E15: =IF('BREAK-EVEN CALCULATOR'!$F$12=TRUE,ROUNDDOWN('BREAK-EVEN CALCULATOR'!$D$6*'BREAK-EVEN CALCULATOR'!$D$9*E$13,0),0) -> 17 | F15: =IF('BREAK-EVEN CALCULATOR'!$F$12=TRUE,ROUNDDOWN('BREAK-EVEN CALCULATOR'!$D$6*'BREAK-EVEN CALCULATOR'!$D$9*F$13,0),0) -> 22 | G15: =IF('BREAK-EVEN CALCULATOR'!$F$12=TRUE,ROUNDDOWN('BREAK-EVEN CALCULATOR'!$D$6*'BREAK-EVEN CALCULATOR'!$D$9*G$13,0),0) -> 26 | H15: =IF('BREAK-EVEN CALCULATOR'!$F$12=TRUE,ROUNDDOWN('BREAK-EVEN CALCULATOR'!$D$6*'BREAK-EVEN CALCULATOR'!$D$9*H$13,0),0) -> 31 | I15: =IF('BREAK-EVEN CALCULATOR'!$F$12=TRUE,ROUNDDOWN('BREAK-EVEN CALCULATOR'!$D$6*'BREAK-EVEN CALCULATOR'!$D$9*I$13,0),0) -> 35 | ... CW15: =IF('BREAK-EVEN CALCULATOR'!$F$12=TRUE,ROUNDDOWN('BREAK-EVEN CALCULATOR'!$D$6*'BREAK-EVEN CALCULATOR'!$D$9*CW$13,0),0) -> 448
A16: DAILY MEAL EQUIVALENTS | B16: =IF('BREAK-EVEN CALCULATOR'!$F$12=TRUE,SUM(B$14:B$15)*(1/3),0) -> 16.666667 | C16: =IF('BREAK-EVEN CALCULATOR'!$F$12=TRUE,SUM(C$14:C$15)*(1/3),0) -> 33.666667 | D16: =IF('BREAK-EVEN CALCULATOR'!$F$12=TRUE,SUM(D$14:D$15)*(1/3),0) -> 50.666667 | E16: =IF('BREAK-EVEN CALCULATOR'!$F$12=TRUE,SUM(E$14:E$15)*(1/3),0) -> 67.666667 | F16: =IF('BREAK-EVEN CALCULATOR'!$F$12=TRUE,SUM(F$14:F$15)*(1/3),0) -> 84.666667 | G16: =IF('BREAK-EVEN CALCULATOR'!$F$12=TRUE,SUM(G$14:G$15)*(1/3),0) -> 101.66667 | H16: =IF('BREAK-EVEN CALCULATOR'!$F$12=TRUE,SUM(H$14:H$15)*(1/3),0) -> 118.66667 | I16: =IF('BREAK-EVEN CALCULATOR'!$F$12=TRUE,SUM(I$14:I$15)*(1/3),0) -> 135.66667 | ... CW16: =IF('BREAK-EVEN CALCULATOR'!$F$12=TRUE,SUM(CW$14:CW$15)*(1/3),0) -> 1699.6667
A17: DAILY LABOR HOURS | B17: =IF('BREAK-EVEN CALCULATOR'!$F$12=TRUE,B$16/'BREAK-EVEN CALCULATOR'!$D$21,0) -> 0.92592593 | C17: =IF('BREAK-EVEN CALCULATOR'!$F$12=TRUE,C$16/'BREAK-EVEN CALCULATOR'!$D$21,0) -> 1.8703704 | D17: =IF('BREAK-EVEN CALCULATOR'!$F$12=TRUE,D$16/'BREAK-EVEN CALCULATOR'!$D$21,0) -> 2.8148148 | E17: =IF('BREAK-EVEN CALCULATOR'!$F$12=TRUE,E$16/'BREAK-EVEN CALCULATOR'!$D$21,0) -> 3.7592593 | F17: =IF('BREAK-EVEN CALCULATOR'!$F$12=TRUE,F$16/'BREAK-EVEN CALCULATOR'!$D$21,0) -> 4.7037037 | G17: =IF('BREAK-EVEN CALCULATOR'!$F$12=TRUE,G$16/'BREAK-EVEN CALCULATOR'!$D$21,0) -> 5.6481481 | H17: =IF('BREAK-EVEN CALCULATOR'!$F$12=TRUE,H$16/'BREAK-EVEN CALCULATOR'!$D$21,0) -> 6.5925926 | I17: =IF('BREAK-EVEN CALCULATOR'!$F$12=TRUE,I$16/'BREAK-EVEN CALCULATOR'!$D$21,0) -> 7.537037 | ... CW17: =IF('BREAK-EVEN CALCULATOR'!$F$12=TRUE,CW$16/'BREAK-EVEN CALCULATOR'!$D$21,0) -> 94.425926
A18: DAILY REIMBURSEMENTS | B18: =IF('BREAK-EVEN CALCULATOR'!$F$12=TRUE,(B$14*'BREAK-EVEN CALCULATOR'!$F$13)+(B$15*'BREAK-EVEN CALCULATOR'!$F$14),0) -> 43.56 | C18: =IF('BREAK-EVEN CALCULATOR'!$F$12=TRUE,(C$14*'BREAK-EVEN CALCULATOR'!$F$13)+(C$15*'BREAK-EVEN CALCULATOR'!$F$14),0) -> 88.06 | D18: =IF('BREAK-EVEN CALCULATOR'!$F$12=TRUE,(D$14*'BREAK-EVEN CALCULATOR'!$F$13)+(D$15*'BREAK-EVEN CALCULATOR'!$F$14),0) -> 131.7 | E18: =IF('BREAK-EVEN CALCULATOR'!$F$12=TRUE,(E$14*'BREAK-EVEN CALCULATOR'!$F$13)+(E$15*'BREAK-EVEN CALCULATOR'!$F$14),0) -> 176.2 | F18: =IF('BREAK-EVEN CALCULATOR'!$F$12=TRUE,(F$14*'BREAK-EVEN CALCULATOR'!$F$13)+(F$15*'BREAK-EVEN CALCULATOR'!$F$14),0) -> 219.84 | G18: =IF('BREAK-EVEN CALCULATOR'!$F$12=TRUE,(G$14*'BREAK-EVEN CALCULATOR'!$F$13)+(G$15*'BREAK-EVEN CALCULATOR'!$F$14),0) -> 264.34 | H18: =IF('BREAK-EVEN CALCULATOR'!$F$12=TRUE,(H$14*'BREAK-EVEN CALCULATOR'!$F$13)+(H$15*'BREAK-EVEN CALCULATOR'!$F$14),0) -> 307.98 | I18: =IF('BREAK-EVEN CALCULATOR'!$F$12=TRUE,(I$14*'BREAK-EVEN CALCULATOR'!$F$13)+(I$15*'BREAK-EVEN CALCULATOR'!$F$14),0) -> 352.48 | ... CW18: =IF('BREAK-EVEN CALCULATOR'!$F$12=TRUE,(CW$14*'BREAK-EVEN CALCULATOR'!$F$13)+(CW$15*'BREAK-EVEN CALCULATOR'!$F$14),0) -> 4407.78
A19: DAILY FOOD & MATERIALS COST | B19: =IF('BREAK-EVEN CALCULATOR'!$F$12=TRUE,(SUM(B$14:B$15)*(1+'BREAK-EVEN CALCULATOR'!$F$16))*'BREAK-EVEN CALCULATOR'!$F$15,0) -> 30 | C19: =IF('BREAK-EVEN CALCULATOR'!$F$12=TRUE,(SUM(C$14:C$15)*(1+'BREAK-EVEN CALCULATOR'!$F$16))*'BREAK-EVEN CALCULATOR'!$F$15,0) -> 60.6 | D19: =IF('BREAK-EVEN CALCULATOR'!$F$12=TRUE,(SUM(D$14:D$15)*(1+'BREAK-EVEN CALCULATOR'!$F$16))*'BREAK-EVEN CALCULATOR'!$F$15,0) -> 91.2 | E19: =IF('BREAK-EVEN CALCULATOR'!$F$12=TRUE,(SUM(E$14:E$15)*(1+'BREAK-EVEN CALCULATOR'!$F$16))*'BREAK-EVEN CALCULATOR'!$F$15,0) -> 121.8 | F19: =IF('BREAK-EVEN CALCULATOR'!$F$12=TRUE,(SUM(F$14:F$15)*(1+'BREAK-EVEN CALCULATOR'!$F$16))*'BREAK-EVEN CALCULATOR'!$F$15,0) -> 152.4 | G19: =IF('BREAK-EVEN CALCULATOR'!$F$12=TRUE,(SUM(G$14:G$15)*(1+'BREAK-EVEN CALCULATOR'!$F$16))*'BREAK-EVEN CALCULATOR'!$F$15,0) -> 183 | H19: =IF('BREAK-EVEN CALCULATOR'!$F$12=TRUE,(SUM(H$14:H$15)*(1+'BREAK-EVEN CALCULATOR'!$F$16))*'BREAK-EVEN CALCULATOR'!$F$15,0) -> 213.6 | I19: =IF('BREAK-EVEN CALCULATOR'!$F$12=TRUE,(SUM(I$14:I$15)*(1+'BREAK-EVEN CALCULATOR'!$F$16))*'BREAK-EVEN CALCULATOR'!$F$15,0) -> 244.2 | ... CW19: =IF('BREAK-EVEN CALCULATOR'!$F$12=TRUE,(SUM(CW$14:CW$15)*(1+'BREAK-EVEN CALCULATOR'!$F$16))*'BREAK-EVEN CALCULATOR'!$F$15,0) -> 3059.4
A20: DIRECT LABOR EXPENSE | B20: =IF('BREAK-EVEN CALCULATOR'!$D$12=TRUE,'PARTICIPATION RATE TABLES'!B$17*('BREAK-EVEN CALCULATOR'!$D$22+('BREAK-EVEN CALCULATOR'!$D$22*'BREAK-EVEN CALCULATOR'!$D$23)+('BREAK-EVEN CALCULATOR'!$D$22*'BREAK-EVEN CALCULATOR'!$D$24)),0) -> 12.222222 | C20: =IF('BREAK-EVEN CALCULATOR'!$D$12=TRUE,'PARTICIPATION RATE TABLES'!C$17*('BREAK-EVEN CALCULATOR'!$D$22+('BREAK-EVEN CALCULATOR'!$D$22*'BREAK-EVEN CALCULATOR'!$D$23)+('BREAK-EVEN CALCULATOR'!$D$22*'BREAK-EVEN CALCULATOR'!$D$24)),0) -> 24.688889 | D20: =IF('BREAK-EVEN CALCULATOR'!$D$12=TRUE,'PARTICIPATION RATE TABLES'!D$17*('BREAK-EVEN CALCULATOR'!$D$22+('BREAK-EVEN CALCULATOR'!$D$22*'BREAK-EVEN CALCULATOR'!$D$23)+('BREAK-EVEN CALCULATOR'!$D$22*'BREAK-EVEN CALCULATOR'!$D$24)),0) -> 37.155556 | E20: =IF('BREAK-EVEN CALCULATOR'!$D$12=TRUE,'PARTICIPATION RATE TABLES'!E$17*('BREAK-EVEN CALCULATOR'!$D$22+('BREAK-EVEN CALCULATOR'!$D$22*'BREAK-EVEN CALCULATOR'!$D$23)+('BREAK-EVEN CALCULATOR'!$D$22*'BREAK-EVEN CALCULATOR'!$D$24)),0) -> 49.622222 | F20: =IF('BREAK-EVEN CALCULATOR'!$D$12=TRUE,'PARTICIPATION RATE TABLES'!F$17*('BREAK-EVEN CALCULATOR'!$D$22+('BREAK-EVEN CALCULATOR'!$D$22*'BREAK-EVEN CALCULATOR'!$D$23)+('BREAK-EVEN CALCULATOR'!$D$22*'BREAK-EVEN CALCULATOR'!$D$24)),0) -> 62.088889 | G20: =IF('BREAK-EVEN CALCULATOR'!$D$12=TRUE,'PARTICIPATION RATE TABLES'!G$17*('BREAK-EVEN CALCULATOR'!$D$22+('BREAK-EVEN CALCULATOR'!$D$22*'BREAK-EVEN CALCULATOR'!$D$23)+('BREAK-EVEN CALCULATOR'!$D$22*'BREAK-EVEN CALCULATOR'!$D$24)),0) -> 74.555556 | H20: =IF('BREAK-EVEN CALCULATOR'!$D$12=TRUE,'PARTICIPATION RATE TABLES'!H$17*('BREAK-EVEN CALCULATOR'!$D$22+('BREAK-EVEN CALCULATOR'!$D$22*'BREAK-EVEN CALCULATOR'!$D$23)+('BREAK-EVEN CALCULATOR'!$D$22*'BREAK-EVEN CALCULATOR'!$D$24)),0) -> 87.022222 | I20: =IF('BREAK-EVEN CALCULATOR'!$D$12=TRUE,'PARTICIPATION RATE TABLES'!I$17*('BREAK-EVEN CALCULATOR'!$D$22+('BREAK-EVEN CALCULATOR'!$D$22*'BREAK-EVEN CALCULATOR'!$D$23)+('BREAK-EVEN CALCULATOR'!$D$22*'BREAK-EVEN CALCULATOR'!$D$24)),0) -> 99.488889 | ... CW20: =IF('BREAK-EVEN CALCULATOR'!$D$12=TRUE,'PARTICIPATION RATE TABLES'!CW$17*('BREAK-EVEN CALCULATOR'!$D$22+('BREAK-EVEN CALCULATOR'!$D$22*'BREAK-EVEN CALCULATOR'!$D$23)+('BREAK-EVEN CALCULATOR'!$D$22*'BREAK-EVEN CALCULATOR'!$D$24)),0) -> 1246.4222
A21: DAILY CONTRIBUTION MARGIN | B21: =B18-SUM(B19:B20) -> 1.3377778 | C21: =C18-SUM(C19:C20) -> 2.7711111 | D21: =D18-SUM(D19:D20) -> 3.3444444 | E21: =E18-SUM(E19:E20) -> 4.7777778 | F21: =F18-SUM(F19:F20) -> 5.3511111 | G21: =G18-SUM(G19:G20) -> 6.7844444 | H21: =H18-SUM(H19:H20) -> 7.3577778 | I21: =I18-SUM(I19:I20) -> 8.7911111 | ... CW21: =CW18-SUM(CW19:CW20) -> 101.95778
A22: ANNUAL CONTRIBUTION MARGIN | B22: ='BREAK-EVEN CALCULATOR'!$D$5*B21 -> 240.8 | C22: ='BREAK-EVEN CALCULATOR'!$D$5*C21 -> 498.8 | D22: ='BREAK-EVEN CALCULATOR'!$D$5*D21 -> 602 | E22: ='BREAK-EVEN CALCULATOR'!$D$5*E21 -> 860 | F22: ='BREAK-EVEN CALCULATOR'!$D$5*F21 -> 963.2 | G22: ='BREAK-EVEN CALCULATOR'!$D$5*G21 -> 1221.2 | H22: ='BREAK-EVEN CALCULATOR'!$D$5*H21 -> 1324.4 | I22: ='BREAK-EVEN CALCULATOR'!$D$5*I21 -> 1582.4 | ... CW22: ='BREAK-EVEN CALCULATOR'!$D$5*CW21 -> 18352.4
A24: LUNCH PARTICIPATION RATE | B24: 0.01 | C24: 0.02 | D24: 0.03 | E24: 0.04 | F24: 0.05 | G24: 0.06 | H24: 0.07 | I24: 0.08 | J24: 0.09 | K24: 0.1 | L24: 0.11 | M24: 0.12 | N24: 0.13 | O24: 0.14 | P24: 0.15 | Q24: 0.16 | R24: 0.17 | S24: 0.18 | T24: 0.19 | U24: 0.2 | V24: 0.21 | W24: 0.22 | X24: 0.23 | Y24: 0.24 | Z24: 0.25 | AA24: 0.26 | AB24: 0.27 | AC24: 0.28 | AD24: 0.29 | AE24: 0.3 | AF24: 0.31 | AG24: 0.32 | AH24: 0.33 | AI24: 0.34 | AJ24: 0.35 | AK24: 0.36 | AL24: 0.37 | AM24: 0.38 | AN24: 0.39 | AO24: 0.4 | AP24: 0.41 | AQ24: 0.42 | AR24: 0.43 | AS24: 0.44 | AT24: 0.45 | AU24: 0.46 | AV24: 0.47 | AW24: 0.48 | AX24: 0.49 | AY24: 0.5 | AZ24: 0.51 | BA24: 0.52 | BB24: 0.53 | BC24: 0.54 | BD24: 0.55 | BE24: 0.56 | BF24: 0.57 | BG24: 0.58 | BH24: 0.59 | BI24: 0.6 | BJ24: 0.61 | BK24: 0.62 | BL24: 0.63 | BM24: 0.64 | BN24: 0.65 | BO24: 0.66 | BP24: 0.67 | BQ24: 0.68 | BR24: 0.69 | BS24: 0.7 | BT24: 0.71 | BU24: 0.72 | BV24: 0.73 | BW24: 0.74 | BX24: 0.75 | BY24: 0.76 | BZ24: 0.77 | CA24: 0.78 | CB24: 0.79 | CC24: 0.8 | CD24: 0.81 | CE24: 0.82 | CF24: 0.83 | CG24: 0.84 | CH24: 0.85 | CI24: 0.86 | CJ24: 0.87 | CK24: 0.88 | CL24: 0.89 | CM24: 0.9 | CN24: 0.91 | CO24: 0.92 | CP24: 0.93 | CQ24: 0.94 | CR24: 0.95 | CS24: 0.96 | CT24: 0.97 | CU24: 0.98 | CV24: 0.99 | CW24: 1
A25: DAILY FREE-RATE MEALS | B25: =IF('BREAK-EVEN CALCULATOR'!$H$12=TRUE,ROUNDDOWN('BREAK-EVEN CALCULATOR'!$D$6*'BREAK-EVEN CALCULATOR'!$D$8*B$24,0),0) -> 46 | C25: =IF('BREAK-EVEN CALCULATOR'!$H$12=TRUE,ROUNDDOWN('BREAK-EVEN CALCULATOR'!$D$6*'BREAK-EVEN CALCULATOR'!$D$8*C$24,0),0) -> 93 | D25: =IF('BREAK-EVEN CALCULATOR'!$H$12=TRUE,ROUNDDOWN('BREAK-EVEN CALCULATOR'!$D$6*'BREAK-EVEN CALCULATOR'!$D$8*D$24,0),0) -> 139 | E25: =IF('BREAK-EVEN CALCULATOR'!$H$12=TRUE,ROUNDDOWN('BREAK-EVEN CALCULATOR'!$D$6*'BREAK-EVEN CALCULATOR'!$D$8*E$24,0),0) -> 186 | F25: =IF('BREAK-EVEN CALCULATOR'!$H$12=TRUE,ROUNDDOWN('BREAK-EVEN CALCULATOR'!$D$6*'BREAK-EVEN CALCULATOR'!$D$8*F$24,0),0) -> 232 | G25: =IF('BREAK-EVEN CALCULATOR'!$H$12=TRUE,ROUNDDOWN('BREAK-EVEN CALCULATOR'!$D$6*'BREAK-EVEN CALCULATOR'!$D$8*G$24,0),0) -> 279 | H25: =IF('BREAK-EVEN CALCULATOR'!$H$12=TRUE,ROUNDDOWN('BREAK-EVEN CALCULATOR'!$D$6*'BREAK-EVEN CALCULATOR'!$D$8*H$24,0),0) -> 325 | I25: =IF('BREAK-EVEN CALCULATOR'!$H$12=TRUE,ROUNDDOWN('BREAK-EVEN CALCULATOR'!$D$6*'BREAK-EVEN CALCULATOR'!$D$8*I$24,0),0) -> 372 | ... CW25: =IF('BREAK-EVEN CALCULATOR'!$H$12=TRUE,ROUNDDOWN('BREAK-EVEN CALCULATOR'!$D$6*'BREAK-EVEN CALCULATOR'!$D$8*CW$24,0),0) -> 4651
A26: DAILY PAID-RATE MEALS | B26: =IF('BREAK-EVEN CALCULATOR'!$H$12=TRUE,ROUNDDOWN('BREAK-EVEN CALCULATOR'!$D$6*'BREAK-EVEN CALCULATOR'!$D$9*B$24,0),0) -> 4 | C26: =IF('BREAK-EVEN CALCULATOR'!$H$12=TRUE,ROUNDDOWN('BREAK-EVEN CALCULATOR'!$D$6*'BREAK-EVEN CALCULATOR'!$D$9*C$24,0),0) -> 8 | D26: =IF('BREAK-EVEN CALCULATOR'!$H$12=TRUE,ROUNDDOWN('BREAK-EVEN CALCULATOR'!$D$6*'BREAK-EVEN CALCULATOR'!$D$9*D$24,0),0) -> 13 | E26: =IF('BREAK-EVEN CALCULATOR'!$H$12=TRUE,ROUNDDOWN('BREAK-EVEN CALCULATOR'!$D$6*'BREAK-EVEN CALCULATOR'!$D$9*E$24,0),0) -> 17 | F26: =IF('BREAK-EVEN CALCULATOR'!$H$12=TRUE,ROUNDDOWN('BREAK-EVEN CALCULATOR'!$D$6*'BREAK-EVEN CALCULATOR'!$D$9*F$24,0),0) -> 22 | G26: =IF('BREAK-EVEN CALCULATOR'!$H$12=TRUE,ROUNDDOWN('BREAK-EVEN CALCULATOR'!$D$6*'BREAK-EVEN CALCULATOR'!$D$9*G$24,0),0) -> 26 | H26: =IF('BREAK-EVEN CALCULATOR'!$H$12=TRUE,ROUNDDOWN('BREAK-EVEN CALCULATOR'!$D$6*'BREAK-EVEN CALCULATOR'!$D$9*H$24,0),0) -> 31 | I26: =IF('BREAK-EVEN CALCULATOR'!$H$12=TRUE,ROUNDDOWN('BREAK-EVEN CALCULATOR'!$D$6*'BREAK-EVEN CALCULATOR'!$D$9*I$24,0),0) -> 35 | ... CW26: =IF('BREAK-EVEN CALCULATOR'!$H$12=TRUE,ROUNDDOWN('BREAK-EVEN CALCULATOR'!$D$6*'BREAK-EVEN CALCULATOR'!$D$9*CW$24,0),0) -> 448
A27: DAILY MEAL EQUIVALENTS | B27: =IF('BREAK-EVEN CALCULATOR'!$H$12=TRUE,SUM(B$25:B$26),0) -> 50 | C27: =IF('BREAK-EVEN CALCULATOR'!$H$12=TRUE,SUM(C$25:C$26),0) -> 101 | D27: =IF('BREAK-EVEN CALCULATOR'!$H$12=TRUE,SUM(D$25:D$26),0) -> 152 | E27: =IF('BREAK-EVEN CALCULATOR'!$H$12=TRUE,SUM(E$25:E$26),0) -> 203 | F27: =IF('BREAK-EVEN CALCULATOR'!$H$12=TRUE,SUM(F$25:F$26),0) -> 254 | G27: =IF('BREAK-EVEN CALCULATOR'!$H$12=TRUE,SUM(G$25:G$26),0) -> 305 | H27: =IF('BREAK-EVEN CALCULATOR'!$H$12=TRUE,SUM(H$25:H$26),0) -> 356 | I27: =IF('BREAK-EVEN CALCULATOR'!$H$12=TRUE,SUM(I$25:I$26),0) -> 407 | ... CW27: =IF('BREAK-EVEN CALCULATOR'!$H$12=TRUE,SUM(CW$25:CW$26),0) -> 5099
A28: DAILY LABOR HOURS | B28: =IF('BREAK-EVEN CALCULATOR'!$H$12=TRUE,B$27/'BREAK-EVEN CALCULATOR'!$D$21,0) -> 2.7777778 | C28: =IF('BREAK-EVEN CALCULATOR'!$H$12=TRUE,C$27/'BREAK-EVEN CALCULATOR'!$D$21,0) -> 5.6111111 | D28: =IF('BREAK-EVEN CALCULATOR'!$H$12=TRUE,D$27/'BREAK-EVEN CALCULATOR'!$D$21,0) -> 8.4444444 | E28: =IF('BREAK-EVEN CALCULATOR'!$H$12=TRUE,E$27/'BREAK-EVEN CALCULATOR'!$D$21,0) -> 11.277778 | F28: =IF('BREAK-EVEN CALCULATOR'!$H$12=TRUE,F$27/'BREAK-EVEN CALCULATOR'!$D$21,0) -> 14.111111 | G28: =IF('BREAK-EVEN CALCULATOR'!$H$12=TRUE,G$27/'BREAK-EVEN CALCULATOR'!$D$21,0) -> 16.944444 | H28: =IF('BREAK-EVEN CALCULATOR'!$H$12=TRUE,H$27/'BREAK-EVEN CALCULATOR'!$D$21,0) -> 19.777778 | I28: =IF('BREAK-EVEN CALCULATOR'!$H$12=TRUE,I$27/'BREAK-EVEN CALCULATOR'!$D$21,0) -> 22.611111 | ... CW28: =IF('BREAK-EVEN CALCULATOR'!$H$12=TRUE,CW$27/'BREAK-EVEN CALCULATOR'!$D$21,0) -> 283.27778
A29: DAILY REIMBURSEMENTS | B29: =IF('BREAK-EVEN CALCULATOR'!$H$12=TRUE,(B$25*'BREAK-EVEN CALCULATOR'!$H$13)+(B$26*'BREAK-EVEN CALCULATOR'!$H$14),0) -> 161.64 | C29: =IF('BREAK-EVEN CALCULATOR'!$H$12=TRUE,(C$25*'BREAK-EVEN CALCULATOR'!$H$13)+(C$26*'BREAK-EVEN CALCULATOR'!$H$14),0) -> 326.76 | D29: =IF('BREAK-EVEN CALCULATOR'!$H$12=TRUE,(D$25*'BREAK-EVEN CALCULATOR'!$H$13)+(D$26*'BREAK-EVEN CALCULATOR'!$H$14),0) -> 488.79 | E29: =IF('BREAK-EVEN CALCULATOR'!$H$12=TRUE,(E$25*'BREAK-EVEN CALCULATOR'!$H$13)+(E$26*'BREAK-EVEN CALCULATOR'!$H$14),0) -> 653.91 | F29: =IF('BREAK-EVEN CALCULATOR'!$H$12=TRUE,(F$25*'BREAK-EVEN CALCULATOR'!$H$13)+(F$26*'BREAK-EVEN CALCULATOR'!$H$14),0) -> 815.94 | G29: =IF('BREAK-EVEN CALCULATOR'!$H$12=TRUE,(G$25*'BREAK-EVEN CALCULATOR'!$H$13)+(G$26*'BREAK-EVEN CALCULATOR'!$H$14),0) -> 981.06 | H29: =IF('BREAK-EVEN CALCULATOR'!$H$12=TRUE,(H$25*'BREAK-EVEN CALCULATOR'!$H$13)+(H$26*'BREAK-EVEN CALCULATOR'!$H$14),0) -> 1143.09 | I29: =IF('BREAK-EVEN CALCULATOR'!$H$12=TRUE,(I$25*'BREAK-EVEN CALCULATOR'!$H$13)+(I$26*'BREAK-EVEN CALCULATOR'!$H$14),0) -> 1308.21 | ... CW29: =IF('BREAK-EVEN CALCULATOR'!$H$12=TRUE,(CW$25*'BREAK-EVEN CALCULATOR'!$H$13)+(CW$26*'BREAK-EVEN CALCULATOR'!$H$14),0) -> 16360.2
A30: DAILY FOOD & MATERIALS COST | B30: =IF('BREAK-EVEN CALCULATOR'!$H$12=TRUE,(SUM(B$25:B$26)*(1+'BREAK-EVEN CALCULATOR'!$H$16))*'BREAK-EVEN CALCULATOR'!$H$15,0) -> 112.5 | C30: =IF('BREAK-EVEN CALCULATOR'!$H$12=TRUE,(SUM(C$25:C$26)*(1+'BREAK-EVEN CALCULATOR'!$H$16))*'BREAK-EVEN CALCULATOR'!$H$15,0) -> 227.25 | D30: =IF('BREAK-EVEN CALCULATOR'!$H$12=TRUE,(SUM(D$25:D$26)*(1+'BREAK-EVEN CALCULATOR'!$H$16))*'BREAK-EVEN CALCULATOR'!$H$15,0) -> 342 | E30: =IF('BREAK-EVEN CALCULATOR'!$H$12=TRUE,(SUM(E$25:E$26)*(1+'BREAK-EVEN CALCULATOR'!$H$16))*'BREAK-EVEN CALCULATOR'!$H$15,0) -> 456.75 | F30: =IF('BREAK-EVEN CALCULATOR'!$H$12=TRUE,(SUM(F$25:F$26)*(1+'BREAK-EVEN CALCULATOR'!$H$16))*'BREAK-EVEN CALCULATOR'!$H$15,0) -> 571.5 | G30: =IF('BREAK-EVEN CALCULATOR'!$H$12=TRUE,(SUM(G$25:G$26)*(1+'BREAK-EVEN CALCULATOR'!$H$16))*'BREAK-EVEN CALCULATOR'!$H$15,0) -> 686.25 | H30: =IF('BREAK-EVEN CALCULATOR'!$H$12=TRUE,(SUM(H$25:H$26)*(1+'BREAK-EVEN CALCULATOR'!$H$16))*'BREAK-EVEN CALCULATOR'!$H$15,0) -> 801 | I30: =IF('BREAK-EVEN CALCULATOR'!$H$12=TRUE,(SUM(I$25:I$26)*(1+'BREAK-EVEN CALCULATOR'!$H$16))*'BREAK-EVEN CALCULATOR'!$H$15,0) -> 915.75 | ... CW30: =IF('BREAK-EVEN CALCULATOR'!$H$12=TRUE,(SUM(CW$25:CW$26)*(1+'BREAK-EVEN CALCULATOR'!$H$16))*'BREAK-EVEN CALCULATOR'!$H$15,0) -> 11472.75
A31: DIRECT LABOR EXPENSE | B31: =IF('BREAK-EVEN CALCULATOR'!$D$12=TRUE,'PARTICIPATION RATE TABLES'!B$28*('BREAK-EVEN CALCULATOR'!$D$22+('BREAK-EVEN CALCULATOR'!$D$22*'BREAK-EVEN CALCULATOR'!$D$23)+('BREAK-EVEN CALCULATOR'!$D$22*'BREAK-EVEN CALCULATOR'!$D$24)),0) -> 36.666667 | C31: =IF('BREAK-EVEN CALCULATOR'!$D$12=TRUE,'PARTICIPATION RATE TABLES'!C$28*('BREAK-EVEN CALCULATOR'!$D$22+('BREAK-EVEN CALCULATOR'!$D$22*'BREAK-EVEN CALCULATOR'!$D$23)+('BREAK-EVEN CALCULATOR'!$D$22*'BREAK-EVEN CALCULATOR'!$D$24)),0) -> 74.066667 | D31: =IF('BREAK-EVEN CALCULATOR'!$D$12=TRUE,'PARTICIPATION RATE TABLES'!D$28*('BREAK-EVEN CALCULATOR'!$D$22+('BREAK-EVEN CALCULATOR'!$D$22*'BREAK-EVEN CALCULATOR'!$D$23)+('BREAK-EVEN CALCULATOR'!$D$22*'BREAK-EVEN CALCULATOR'!$D$24)),0) -> 111.46667 | E31: =IF('BREAK-EVEN CALCULATOR'!$D$12=TRUE,'PARTICIPATION RATE TABLES'!E$28*('BREAK-EVEN CALCULATOR'!$D$22+('BREAK-EVEN CALCULATOR'!$D$22*'BREAK-EVEN CALCULATOR'!$D$23)+('BREAK-EVEN CALCULATOR'!$D$22*'BREAK-EVEN CALCULATOR'!$D$24)),0) -> 148.86667 | F31: =IF('BREAK-EVEN CALCULATOR'!$D$12=TRUE,'PARTICIPATION RATE TABLES'!F$28*('BREAK-EVEN CALCULATOR'!$D$22+('BREAK-EVEN CALCULATOR'!$D$22*'BREAK-EVEN CALCULATOR'!$D$23)+('BREAK-EVEN CALCULATOR'!$D$22*'BREAK-EVEN CALCULATOR'!$D$24)),0) -> 186.26667 | G31: =IF('BREAK-EVEN CALCULATOR'!$D$12=TRUE,'PARTICIPATION RATE TABLES'!G$28*('BREAK-EVEN CALCULATOR'!$D$22+('BREAK-EVEN CALCULATOR'!$D$22*'BREAK-EVEN CALCULATOR'!$D$23)+('BREAK-EVEN CALCULATOR'!$D$22*'BREAK-EVEN CALCULATOR'!$D$24)),0) -> 223.66667 | H31: =IF('BREAK-EVEN CALCULATOR'!$D$12=TRUE,'PARTICIPATION RATE TABLES'!H$28*('BREAK-EVEN CALCULATOR'!$D$22+('BREAK-EVEN CALCULATOR'!$D$22*'BREAK-EVEN CALCULATOR'!$D$23)+('BREAK-EVEN CALCULATOR'!$D$22*'BREAK-EVEN CALCULATOR'!$D$24)),0) -> 261.06667 | I31: =IF('BREAK-EVEN CALCULATOR'!$D$12=TRUE,'PARTICIPATION RATE TABLES'!I$28*('BREAK-EVEN CALCULATOR'!$D$22+('BREAK-EVEN CALCULATOR'!$D$22*'BREAK-EVEN CALCULATOR'!$D$23)+('BREAK-EVEN CALCULATOR'!$D$22*'BREAK-EVEN CALCULATOR'!$D$24)),0) -> 298.46667 | ... CW31: =IF('BREAK-EVEN CALCULATOR'!$D$12=TRUE,'PARTICIPATION RATE TABLES'!CW$28*('BREAK-EVEN CALCULATOR'!$D$22+('BREAK-EVEN CALCULATOR'!$D$22*'BREAK-EVEN CALCULATOR'!$D$23)+('BREAK-EVEN CALCULATOR'!$D$22*'BREAK-EVEN CALCULATOR'!$D$24)),0) -> 3739.2667
A32: DAILY CONTRIBUTION MARGIN | B32: =B29-SUM(B30:B31) -> 12.473333 | C32: =C29-SUM(C30:C31) -> 25.443333 | D32: =D29-SUM(D30:D31) -> 35.323333 | E32: =E29-SUM(E30:E31) -> 48.293333 | F32: =F29-SUM(F30:F31) -> 58.173333 | G32: =G29-SUM(G30:G31) -> 71.143333 | H32: =H29-SUM(H30:H31) -> 81.023333 | I32: =I29-SUM(I30:I31) -> 93.993333 | ... CW32: =CW29-SUM(CW30:CW31) -> 1148.1833
A33: ANNUAL CONTRIBUTION MARGIN | B33: ='BREAK-EVEN CALCULATOR'!$D$5*B32 -> 2245.2 | C33: ='BREAK-EVEN CALCULATOR'!$D$5*C32 -> 4579.8 | D33: ='BREAK-EVEN CALCULATOR'!$D$5*D32 -> 6358.2 | E33: ='BREAK-EVEN CALCULATOR'!$D$5*E32 -> 8692.8 | F33: ='BREAK-EVEN CALCULATOR'!$D$5*F32 -> 10471.2 | G33: ='BREAK-EVEN CALCULATOR'!$D$5*G32 -> 12805.8 | H33: ='BREAK-EVEN CALCULATOR'!$D$5*H32 -> 14584.2 | I33: ='BREAK-EVEN CALCULATOR'!$D$5*I32 -> 16918.8 | ... CW33: ='BREAK-EVEN CALCULATOR'!$D$5*CW32 -> 206673
A35: SUPPER PARTICIPATION RATE | B35: 0.01 | C35: 0.02 | D35: 0.03 | E35: 0.04 | F35: 0.05 | G35: 0.06 | H35: 0.07 | I35: 0.08 | J35: 0.09 | K35: 0.1 | L35: 0.11 | M35: 0.12 | N35: 0.13 | O35: 0.14 | P35: 0.15 | Q35: 0.16 | R35: 0.17 | S35: 0.18 | T35: 0.19 | U35: 0.2 | V35: 0.21 | W35: 0.22 | X35: 0.23 | Y35: 0.24 | Z35: 0.25 | AA35: 0.26 | AB35: 0.27 | AC35: 0.28 | AD35: 0.29 | AE35: 0.3 | AF35: 0.31 | AG35: 0.32 | AH35: 0.33 | AI35: 0.34 | AJ35: 0.35 | AK35: 0.36 | AL35: 0.37 | AM35: 0.38 | AN35: 0.39 | AO35: 0.4 | AP35: 0.41 | AQ35: 0.42 | AR35: 0.43 | AS35: 0.44 | AT35: 0.45 | AU35: 0.46 | AV35: 0.47 | AW35: 0.48 | AX35: 0.49 | AY35: 0.5 | AZ35: 0.51 | BA35: 0.52 | BB35: 0.53 | BC35: 0.54 | BD35: 0.55 | BE35: 0.56 | BF35: 0.57 | BG35: 0.58 | BH35: 0.59 | BI35: 0.6 | BJ35: 0.61 | BK35: 0.62 | BL35: 0.63 | BM35: 0.64 | BN35: 0.65 | BO35: 0.66 | BP35: 0.67 | BQ35: 0.68 | BR35: 0.69 | BS35: 0.7 | BT35: 0.71 | BU35: 0.72 | BV35: 0.73 | BW35: 0.74 | BX35: 0.75 | BY35: 0.76 | BZ35: 0.77 | CA35: 0.78 | CB35: 0.79 | CC35: 0.8 | CD35: 0.81 | CE35: 0.82 | CF35: 0.83 | CG35: 0.84 | CH35: 0.85 | CI35: 0.86 | CJ35: 0.87 | CK35: 0.88 | CL35: 0.89 | CM35: 0.9 | CN35: 0.91 | CO35: 0.92 | CP35: 0.93 | CQ35: 0.94 | CR35: 0.95 | CS35: 0.96 | CT35: 0.97 | CU35: 0.98 | CV35: 0.99 | CW35: 1
A36: DAILY FREE-RATE MEALS | B36: =IF('BREAK-EVEN CALCULATOR'!$J$12=TRUE,ROUNDDOWN('BREAK-EVEN CALCULATOR'!$D$6*'BREAK-EVEN CALCULATOR'!$D$8*B$35,0),0) -> 46 | C36: =IF('BREAK-EVEN CALCULATOR'!$J$12=TRUE,ROUNDDOWN('BREAK-EVEN CALCULATOR'!$D$6*'BREAK-EVEN CALCULATOR'!$D$8*C$35,0),0) -> 93 | D36: =IF('BREAK-EVEN CALCULATOR'!$J$12=TRUE,ROUNDDOWN('BREAK-EVEN CALCULATOR'!$D$6*'BREAK-EVEN CALCULATOR'!$D$8*D$35,0),0) -> 139 | E36: =IF('BREAK-EVEN CALCULATOR'!$J$12=TRUE,ROUNDDOWN('BREAK-EVEN CALCULATOR'!$D$6*'BREAK-EVEN CALCULATOR'!$D$8*E$35,0),0) -> 186 | F36: =IF('BREAK-EVEN CALCULATOR'!$J$12=TRUE,ROUNDDOWN('BREAK-EVEN CALCULATOR'!$D$6*'BREAK-EVEN CALCULATOR'!$D$8*F$35,0),0) -> 232 | G36: =IF('BREAK-EVEN CALCULATOR'!$J$12=TRUE,ROUNDDOWN('BREAK-EVEN CALCULATOR'!$D$6*'BREAK-EVEN CALCULATOR'!$D$8*G$35,0),0) -> 279 | H36: =IF('BREAK-EVEN CALCULATOR'!$J$12=TRUE,ROUNDDOWN('BREAK-EVEN CALCULATOR'!$D$6*'BREAK-EVEN CALCULATOR'!$D$8*H$35,0),0) -> 325 | I36: =IF('BREAK-EVEN CALCULATOR'!$J$12=TRUE,ROUNDDOWN('BREAK-EVEN CALCULATOR'!$D$6*'BREAK-EVEN CALCULATOR'!$D$8*I$35,0),0) -> 372 | ... CW36: =IF('BREAK-EVEN CALCULATOR'!$J$12=TRUE,ROUNDDOWN('BREAK-EVEN CALCULATOR'!$D$6*'BREAK-EVEN CALCULATOR'!$D$8*CW$35,0),0) -> 4651
A37: DAILY PAID-RATE MEALS | B37: =IF('BREAK-EVEN CALCULATOR'!$J$12=TRUE,ROUNDDOWN('BREAK-EVEN CALCULATOR'!$D$6*'BREAK-EVEN CALCULATOR'!$D$9*B$35,0),0) -> 4 | C37: =IF('BREAK-EVEN CALCULATOR'!$J$12=TRUE,ROUNDDOWN('BREAK-EVEN CALCULATOR'!$D$6*'BREAK-EVEN CALCULATOR'!$D$9*C$35,0),0) -> 8 | D37: =IF('BREAK-EVEN CALCULATOR'!$J$12=TRUE,ROUNDDOWN('BREAK-EVEN CALCULATOR'!$D$6*'BREAK-EVEN CALCULATOR'!$D$9*D$35,0),0) -> 13 | E37: =IF('BREAK-EVEN CALCULATOR'!$J$12=TRUE,ROUNDDOWN('BREAK-EVEN CALCULATOR'!$D$6*'BREAK-EVEN CALCULATOR'!$D$9*E$35,0),0) -> 17 | F37: =IF('BREAK-EVEN CALCULATOR'!$J$12=TRUE,ROUNDDOWN('BREAK-EVEN CALCULATOR'!$D$6*'BREAK-EVEN CALCULATOR'!$D$9*F$35,0),0) -> 22 | G37: =IF('BREAK-EVEN CALCULATOR'!$J$12=TRUE,ROUNDDOWN('BREAK-EVEN CALCULATOR'!$D$6*'BREAK-EVEN CALCULATOR'!$D$9*G$35,0),0) -> 26 | H37: =IF('BREAK-EVEN CALCULATOR'!$J$12=TRUE,ROUNDDOWN('BREAK-EVEN CALCULATOR'!$D$6*'BREAK-EVEN CALCULATOR'!$D$9*H$35,0),0) -> 31 | I37: =IF('BREAK-EVEN CALCULATOR'!$J$12=TRUE,ROUNDDOWN('BREAK-EVEN CALCULATOR'!$D$6*'BREAK-EVEN CALCULATOR'!$D$9*I$35,0),0) -> 35 | ... CW37: =IF('BREAK-EVEN CALCULATOR'!$J$12=TRUE,ROUNDDOWN('BREAK-EVEN CALCULATOR'!$D$6*'BREAK-EVEN CALCULATOR'!$D$9*CW$35,0),0) -> 448
A38: DAILY MEAL EQUIVALENTS | B38: =IF('BREAK-EVEN CALCULATOR'!$J$12=TRUE,SUM(B$36:B$37),0) -> 50 | C38: =IF('BREAK-EVEN CALCULATOR'!$J$12=TRUE,SUM(C$36:C$37),0) -> 101 | D38: =IF('BREAK-EVEN CALCULATOR'!$J$12=TRUE,SUM(D$36:D$37),0) -> 152 | E38: =IF('BREAK-EVEN CALCULATOR'!$J$12=TRUE,SUM(E$36:E$37),0) -> 203 | F38: =IF('BREAK-EVEN CALCULATOR'!$J$12=TRUE,SUM(F$36:F$37),0) -> 254 | G38: =IF('BREAK-EVEN CALCULATOR'!$J$12=TRUE,SUM(G$36:G$37),0) -> 305 | H38: =IF('BREAK-EVEN CALCULATOR'!$J$12=TRUE,SUM(H$36:H$37),0) -> 356 | I38: =IF('BREAK-EVEN CALCULATOR'!$J$12=TRUE,SUM(I$36:I$37),0) -> 407 | ... CW38: =IF('BREAK-EVEN CALCULATOR'!$J$12=TRUE,SUM(CW$36:CW$37),0) -> 5099
A39: DAILY LABOR HOURS | B39: =IF('BREAK-EVEN CALCULATOR'!$J$12=TRUE,B$38/'BREAK-EVEN CALCULATOR'!$D$21,0) -> 2.7777778 | C39: =IF('BREAK-EVEN CALCULATOR'!$J$12=TRUE,C$38/'BREAK-EVEN CALCULATOR'!$D$21,0) -> 5.6111111 | D39: =IF('BREAK-EVEN CALCULATOR'!$J$12=TRUE,D$38/'BREAK-EVEN CALCULATOR'!$D$21,0) -> 8.4444444 | E39: =IF('BREAK-EVEN CALCULATOR'!$J$12=TRUE,E$38/'BREAK-EVEN CALCULATOR'!$D$21,0) -> 11.277778 | F39: =IF('BREAK-EVEN CALCULATOR'!$J$12=TRUE,F$38/'BREAK-EVEN CALCULATOR'!$D$21,0) -> 14.111111 | G39: =IF('BREAK-EVEN CALCULATOR'!$J$12=TRUE,G$38/'BREAK-EVEN CALCULATOR'!$D$21,0) -> 16.944444 | H39: =IF('BREAK-EVEN CALCULATOR'!$J$12=TRUE,H$38/'BREAK-EVEN CALCULATOR'!$D$21,0) -> 19.777778 | I39: =IF('BREAK-EVEN CALCULATOR'!$J$12=TRUE,I$38/'BREAK-EVEN CALCULATOR'!$D$21,0) -> 22.611111 | ... CW39: =IF('BREAK-EVEN CALCULATOR'!$J$12=TRUE,CW$38/'BREAK-EVEN CALCULATOR'!$D$21,0) -> 283.27778
A40: DAILY REIMBURSEMENTS | B40: =IF('BREAK-EVEN CALCULATOR'!$J$12=TRUE,(B$36*'BREAK-EVEN CALCULATOR'!$J$13)+(B$37*'BREAK-EVEN CALCULATOR'!$J$14),0) -> 158.14 | C40: =IF('BREAK-EVEN CALCULATOR'!$J$12=TRUE,(C$36*'BREAK-EVEN CALCULATOR'!$J$13)+(C$37*'BREAK-EVEN CALCULATOR'!$J$14),0) -> 319.69 | D40: =IF('BREAK-EVEN CALCULATOR'!$J$12=TRUE,(D$36*'BREAK-EVEN CALCULATOR'!$J$13)+(D$37*'BREAK-EVEN CALCULATOR'!$J$14),0) -> 478.15 | E40: =IF('BREAK-EVEN CALCULATOR'!$J$12=TRUE,(E$36*'BREAK-EVEN CALCULATOR'!$J$13)+(E$37*'BREAK-EVEN CALCULATOR'!$J$14),0) -> 639.7 | F40: =IF('BREAK-EVEN CALCULATOR'!$J$12=TRUE,(F$36*'BREAK-EVEN CALCULATOR'!$J$13)+(F$37*'BREAK-EVEN CALCULATOR'!$J$14),0) -> 798.16 | G40: =IF('BREAK-EVEN CALCULATOR'!$J$12=TRUE,(G$36*'BREAK-EVEN CALCULATOR'!$J$13)+(G$37*'BREAK-EVEN CALCULATOR'!$J$14),0) -> 959.71 | H40: =IF('BREAK-EVEN CALCULATOR'!$J$12=TRUE,(H$36*'BREAK-EVEN CALCULATOR'!$J$13)+(H$37*'BREAK-EVEN CALCULATOR'!$J$14),0) -> 1118.17 | I40: =IF('BREAK-EVEN CALCULATOR'!$J$12=TRUE,(I$36*'BREAK-EVEN CALCULATOR'!$J$13)+(I$37*'BREAK-EVEN CALCULATOR'!$J$14),0) -> 1279.72 | ... CW40: =IF('BREAK-EVEN CALCULATOR'!$J$12=TRUE,(CW$36*'BREAK-EVEN CALCULATOR'!$J$13)+(CW$37*'BREAK-EVEN CALCULATOR'!$J$14),0) -> 16003.27
A41: DAILY FOOD & MATERIALS COST | B41: =IF('BREAK-EVEN CALCULATOR'!$J$12=TRUE,(SUM(B$36:B$37)*(1+'BREAK-EVEN CALCULATOR'!$J$16))*'BREAK-EVEN CALCULATOR'!$J$15,0) -> 112.5 | C41: =IF('BREAK-EVEN CALCULATOR'!$J$12=TRUE,(SUM(C$36:C$37)*(1+'BREAK-EVEN CALCULATOR'!$J$16))*'BREAK-EVEN CALCULATOR'!$J$15,0) -> 227.25 | D41: =IF('BREAK-EVEN CALCULATOR'!$J$12=TRUE,(SUM(D$36:D$37)*(1+'BREAK-EVEN CALCULATOR'!$J$16))*'BREAK-EVEN CALCULATOR'!$J$15,0) -> 342 | E41: =IF('BREAK-EVEN CALCULATOR'!$J$12=TRUE,(SUM(E$36:E$37)*(1+'BREAK-EVEN CALCULATOR'!$J$16))*'BREAK-EVEN CALCULATOR'!$J$15,0) -> 456.75 | F41: =IF('BREAK-EVEN CALCULATOR'!$J$12=TRUE,(SUM(F$36:F$37)*(1+'BREAK-EVEN CALCULATOR'!$J$16))*'BREAK-EVEN CALCULATOR'!$J$15,0) -> 571.5 | G41: =IF('BREAK-EVEN CALCULATOR'!$J$12=TRUE,(SUM(G$36:G$37)*(1+'BREAK-EVEN CALCULATOR'!$J$16))*'BREAK-EVEN CALCULATOR'!$J$15,0) -> 686.25 | H41: =IF('BREAK-EVEN CALCULATOR'!$J$12=TRUE,(SUM(H$36:H$37)*(1+'BREAK-EVEN CALCULATOR'!$J$16))*'BREAK-EVEN CALCULATOR'!$J$15,0) -> 801 | I41: =IF('BREAK-EVEN CALCULATOR'!$J$12=TRUE,(SUM(I$36:I$37)*(1+'BREAK-EVEN CALCULATOR'!$J$16))*'BREAK-EVEN CALCULATOR'!$J$15,0) -> 915.75 | ... CW41: =IF('BREAK-EVEN CALCULATOR'!$J$12=TRUE,(SUM(CW$36:CW$37)*(1+'BREAK-EVEN CALCULATOR'!$J$16))*'BREAK-EVEN CALCULATOR'!$J$15,0) -> 11472.75
A42: DIRECT LABOR EXPENSE | B42: =IF('BREAK-EVEN CALCULATOR'!$D$12=TRUE,'PARTICIPATION RATE TABLES'!B$39*('BREAK-EVEN CALCULATOR'!$D$22+('BREAK-EVEN CALCULATOR'!$D$22*'BREAK-EVEN CALCULATOR'!$D$23)+('BREAK-EVEN CALCULATOR'!$D$22*'BREAK-EVEN CALCULATOR'!$D$24)),0) -> 36.666667 | C42: =IF('BREAK-EVEN CALCULATOR'!$D$12=TRUE,'PARTICIPATION RATE TABLES'!C$39*('BREAK-EVEN CALCULATOR'!$D$22+('BREAK-EVEN CALCULATOR'!$D$22*'BREAK-EVEN CALCULATOR'!$D$23)+('BREAK-EVEN CALCULATOR'!$D$22*'BREAK-EVEN CALCULATOR'!$D$24)),0) -> 74.066667 | D42: =IF('BREAK-EVEN CALCULATOR'!$D$12=TRUE,'PARTICIPATION RATE TABLES'!D$39*('BREAK-EVEN CALCULATOR'!$D$22+('BREAK-EVEN CALCULATOR'!$D$22*'BREAK-EVEN CALCULATOR'!$D$23)+('BREAK-EVEN CALCULATOR'!$D$22*'BREAK-EVEN CALCULATOR'!$D$24)),0) -> 111.46667 | E42: =IF('BREAK-EVEN CALCULATOR'!$D$12=TRUE,'PARTICIPATION RATE TABLES'!E$39*('BREAK-EVEN CALCULATOR'!$D$22+('BREAK-EVEN CALCULATOR'!$D$22*'BREAK-EVEN CALCULATOR'!$D$23)+('BREAK-EVEN CALCULATOR'!$D$22*'BREAK-EVEN CALCULATOR'!$D$24)),0) -> 148.86667 | F42: =IF('BREAK-EVEN CALCULATOR'!$D$12=TRUE,'PARTICIPATION RATE TABLES'!F$39*('BREAK-EVEN CALCULATOR'!$D$22+('BREAK-EVEN CALCULATOR'!$D$22*'BREAK-EVEN CALCULATOR'!$D$23)+('BREAK-EVEN CALCULATOR'!$D$22*'BREAK-EVEN CALCULATOR'!$D$24)),0) -> 186.26667 | G42: =IF('BREAK-EVEN CALCULATOR'!$D$12=TRUE,'PARTICIPATION RATE TABLES'!G$39*('BREAK-EVEN CALCULATOR'!$D$22+('BREAK-EVEN CALCULATOR'!$D$22*'BREAK-EVEN CALCULATOR'!$D$23)+('BREAK-EVEN CALCULATOR'!$D$22*'BREAK-EVEN CALCULATOR'!$D$24)),0) -> 223.66667 | H42: =IF('BREAK-EVEN CALCULATOR'!$D$12=TRUE,'PARTICIPATION RATE TABLES'!H$39*('BREAK-EVEN CALCULATOR'!$D$22+('BREAK-EVEN CALCULATOR'!$D$22*'BREAK-EVEN CALCULATOR'!$D$23)+('BREAK-EVEN CALCULATOR'!$D$22*'BREAK-EVEN CALCULATOR'!$D$24)),0) -> 261.06667 | I42: =IF('BREAK-EVEN CALCULATOR'!$D$12=TRUE,'PARTICIPATION RATE TABLES'!I$39*('BREAK-EVEN CALCULATOR'!$D$22+('BREAK-EVEN CALCULATOR'!$D$22*'BREAK-EVEN CALCULATOR'!$D$23)+('BREAK-EVEN CALCULATOR'!$D$22*'BREAK-EVEN CALCULATOR'!$D$24)),0) -> 298.46667 | ... CW42: =IF('BREAK-EVEN CALCULATOR'!$D$12=TRUE,'PARTICIPATION RATE TABLES'!CW$39*('BREAK-EVEN CALCULATOR'!$D$22+('BREAK-EVEN CALCULATOR'!$D$22*'BREAK-EVEN CALCULATOR'!$D$23)+('BREAK-EVEN CALCULATOR'!$D$22*'BREAK-EVEN CALCULATOR'!$D$24)),0) -> 3739.2667
A43: DAILY CONTRIBUTION MARGIN | B43: =B40-SUM(B41:B42) -> 8.9733333 | C43: =C40-SUM(C41:C42) -> 18.373333 | D43: =D40-SUM(D41:D42) -> 24.683333 | E43: =E40-SUM(E41:E42) -> 34.083333 | F43: =F40-SUM(F41:F42) -> 40.393333 | G43: =G40-SUM(G41:G42) -> 49.793333 | H43: =H40-SUM(H41:H42) -> 56.103333 | I43: =I40-SUM(I41:I42) -> 65.503333 | ... CW43: =CW40-SUM(CW41:CW42) -> 791.25333
...
