Workbook

Sheet FEDERAL RATES (HIDDEN)
B2: CEP ISP MULTIPLIER | C2: 1.6 | I2: PERFORMANCE- BASED CASH ASSISTANCE | J2: 0.07
B4: BREAKFAST RATES | C4: SEVERE | E4: NON-SEVERE | G4: PAID | I4: LUNCH RATES | J4: <60% | K4: ≥60% | L4: MAX
C5: FREE | D5: REDUCED | E5: FREE | F5: REDUCED | I5: CONTIGUOUS U.S.
B6: CONTIGUOUS U.S. | C6: 2.2 | D6: 1.9 | E6: 1.84 | F6: 1.54 | G6: 0.31 | I6: PAID | J6: 0.32 | K6: 0.39 | L6: 0.4
B7: ALASKA | C7: 3.53 | D7: 3.23 | E7: 2.95 | F7: 2.65 | G7: 0.47 | I7: REDUCED | J7: 3.01 | K7: 3.08 | L7: 3.18
B8: HAWAII / PUERTO RICO | C8: 2.57 | D8: 2.27 | E8: 2.15 | F8: 1.85 | G8: 0.36 | I8: FREE | J8: 3.41 | K8: 3.48 | L8: 3.58
B10: SNACKS | C10: FREE | D10: REDUCED | E10: PAID | I10: ALASKA
B11: CONTIGUOUS U.S. | C11: 0.94 | D11: 0.47 | E11: 0.08 | I11: PAID | J11: 0.53 | K11: 0.6 | L11: 0.63
B12: ALASKA | C12: 1.52 | D12: 0.76 | E12: 0.13 | I12: REDUCED | J12: 5.14 | K12: 5.21 | L12: 5.38
B13: HAWAII / PUERTO RICO | C13: 1.1 | D13: 0.55 | E13: 0.1 | I13: FREE | J13: 5.54 | K13: 5.61 | L13: 5.78
B15: SUPPER | C15: FREE | D15: REDUCED | E15: PAID | I15: HAWAII
B16: CONTIGUOUS U.S. | C16: 3.41 | D16: 3.01 | E16: 0.32 | I16: PAID | J16: 0.38 | K16: 0.45 | L16: 0.46
B17: ALASKA | C17: 5.54 | D17: 5.14 | E17: 0.53 | I17: REDUCED | J17: 3.6 | K17: 3.67 | L17: 3.78
B18: HAWAII / PUERTO RICO | C18: 4 | D18: 3.6 | E18: 0.38 | I18: FREE | J18: 4 | K18: 4.07 | L18: 4.18
B20: VALUE OF DONATED FOODS | C20: 0.2375
B21: https://www.federalregister.gov/documents/2019/08/07/2019-16903/national-school-lunch-special-milk-and-school-breakfast-programs-national-average-paymentsmaximum#p-31
B22: https://www.federalregister.gov/documents/2019/08/07/2019-16907/child-and-adult-care-food-program-national-average-payment-rates-day-care-home-food-service-payment
B23: https://www.ers.usda.gov/topics/food-nutrition-assistance/child-nutrition-programs/after-school-snacks-and-suppers/
B24: https://www.fns.usda.gov/usda-fis/value-donated-foods-notices

Sheet REIMBURSEMENT RATE OLD
A2: SELECT YOUR GEOGRAPHIC REGION: | B2: CONTIGUOUS US
B3: BREAKFAST | D3: ADJUSTMENT | E3: REIMBURSEMENT RATE
B4: BLENDED CURRENT PAID RATE | C4: =((#REF!/SUM(#REF!))*#REF!)+ ((#REF!/SUM(#REF!))*#REF!)+ ((#REF!/SUM(#REF!))*#REF!)+ ((#REF!/SUM(#REF!))*#REF!)+ ((#REF!/SUM(#REF!))*#REF!)+ ((#REF!/SUM(#REF!))*#REF!)+ ((#REF!/SUM(#REF!))*#REF!)+ ((#REF!/SUM(#REF!))*#REF!)+ ((#REF!/SUM(#REF!))*#REF!)+ ((#REF!/SUM(#REF!))*#REF!)+ ((#REF!/SUM(#REF!))*#REF!)+ ((#REF!/SUM(#REF!))*#REF!)+ ((#REF!/SUM(#REF!))*#REF!)+ ((#REF!/SUM(#REF!))*#REF!)+ ((#REF!/SUM(#REF!))*#REF!)+ ((#REF!/SUM(#REF!))*#REF!)+ ((#REF!/SUM(#REF!))*#REF!)+ ((#REF!/SUM(#REF!))*#REF!)+ ((#REF!/SUM(#REF!))*#REF!)+ ((#REF!/SUM(#REF!))*#REF!)+ ((#REF!/SUM(#REF!))*#REF!)+ ((#REF!/SUM(#REF!))*#REF!)+ ((#REF!/SUM(#REF!))*#REF!)+ ((#REF!/SUM(#REF!))*#REF!)+ ((#REF!/SUM(#REF!))*#REF!)+ ((#REF!/SUM(#REF!))*#REF!)+ ((#REF!/SUM(#REF!))*#REF!)+ ((#REF!/SUM(#REF!))*#REF!)+ ((#REF!/SUM(#REF!))*#REF!)+ ((#REF!/SUM(#REF!))*#REF!) -> #REF! | D4: 0 | E4: ='REIMBURSEMENT RATE OLD'!$C$4+D4 -> #REF!
B5: BLENDED FREE RATE | C5: =((#REF!/SUM(#REF!))*#REF!)+ ((#REF!/SUM(#REF!))*#REF!)+ ((#REF!/SUM(#REF!))*#REF!)+ ((#REF!/SUM(#REF!))*#REF!)+ ((#REF!/SUM(#REF!))*#REF!)+ ((#REF!/SUM(#REF!))*#REF!)+ ((#REF!/SUM(#REF!))*#REF!)+ ((#REF!/SUM(#REF!))*#REF!)+ ((#REF!/SUM(#REF!))*#REF!)+ ((#REF!/SUM(#REF!))*#REF!)+ ((#REF!/SUM(#REF!))*#REF!)+ ((#REF!/SUM(#REF!))*#REF!)+ ((#REF!/SUM(#REF!))*#REF!)+ ((#REF!/SUM(#REF!))*#REF!)+ ((#REF!/SUM(#REF!))*#REF!)+ ((#REF!/SUM(#REF!))*#REF!)+ ((#REF!/SUM(#REF!))*#REF!)+ ((#REF!/SUM(#REF!))*#REF!)+ ((#REF!/SUM(#REF!))*#REF!)+ ((#REF!/SUM(#REF!))*#REF!)+ ((#REF!/SUM(#REF!))*#REF!)+ ((#REF!/SUM(#REF!))*#REF!)+ ((#REF!/SUM(#REF!))*#REF!)+ ((#REF!/SUM(#REF!))*#REF!)+ ((#REF!/SUM(#REF!))*#REF!)+ ((#REF!/SUM(#REF!))*#REF!)+ ((#REF!/SUM(#REF!))*#REF!)+ ((#REF!/SUM(#REF!))*#REF!)+ ((#REF!/SUM(#REF!))*#REF!)+ ((#REF!/SUM(#REF!))*#REF!) -> #REF! | D5: 0 | E5: ='REIMBURSEMENT RATE OLD'!$C$5+D5 -> #REF!
B7: NSLP REIMBURSEMENT RATES
B8: IS YOUR SFA CERTIFIED TO RECEIVE AN EXTRA $0.07? | C8: YES
B9: DO YOU RECEIVE THE EXTRA $0.02? | C9: NO
B10: SELECT YOUR RATE TYPE: | C10: ≥60% | D10: ADJUSTMENT | E10: REIMBURSEMENT RATE
B11: PAID RATE | C11: =IF(AND('REIMBURSEMENT RATE OLD'!$B$2="CONTIGUOUS US",$C$10="<60%"),'FEDERAL RATES (HIDDEN)'!$J6,IF(AND('REIMBURSEMENT RATE OLD'!$B$2="CONTIGUOUS US",$C$10="≥60%"),'FEDERAL RATES (HIDDEN)'!$K6,IF(AND('REIMBURSEMENT RATE OLD'!$B$2="CONTIGUOUS US",$C$10="MAX"),'FEDERAL RATES (HIDDEN)'!$L6,IF(AND('REIMBURSEMENT RATE OLD'!$B$2="ALASKA",$C$10="<60%"),'FEDERAL RATES (HIDDEN)'!$J11,IF(AND('REIMBURSEMENT RATE OLD'!$B$2="ALASKA",$C$10="≥60%"),'FEDERAL RATES (HIDDEN)'!$K11,IF(AND('REIMBURSEMENT RATE OLD'!$B$2="ALASKA",$C$10="MAX"),'FEDERAL RATES (HIDDEN)'!$L11,IF(AND('REIMBURSEMENT RATE OLD'!$B$2="HAWAII",$C$10="<60%"),'FEDERAL RATES (HIDDEN)'!$J16,IF(AND('REIMBURSEMENT RATE OLD'!$B$2="HAWAII",$C$10="≥60%"),'FEDERAL RATES (HIDDEN)'!$K16,IF(AND('REIMBURSEMENT RATE OLD'!$B$2="HAWAII",$C$10="MAX"),'FEDERAL RATES (HIDDEN)'!$L16,"")))))))))+IF($C$8="YES",0.07,0)+IF($C$9="YES",0.02,0) -> 0.46 | D11: 0 | E11: ='REIMBURSEMENT RATE OLD'!$C$11+D11 -> 0.46
B12: FREE RATE | C12: =IF(AND('REIMBURSEMENT RATE OLD'!$B$2="CONTIGUOUS US",$C$10="<60%"),'FEDERAL RATES (HIDDEN)'!$J8,IF(AND('REIMBURSEMENT RATE OLD'!$B$2="CONTIGUOUS US",$C$10="≥60%"),'FEDERAL RATES (HIDDEN)'!$K8,IF(AND('REIMBURSEMENT RATE OLD'!$B$2="CONTIGUOUS US",$C$10="MAX"),'FEDERAL RATES (HIDDEN)'!$L8,IF(AND('REIMBURSEMENT RATE OLD'!$B$2="ALASKA",$C$10="<60%"),'FEDERAL RATES (HIDDEN)'!$J13,IF(AND('REIMBURSEMENT RATE OLD'!$B$2="ALASKA",$C$10="≥60%"),'FEDERAL RATES (HIDDEN)'!$K13,IF(AND('REIMBURSEMENT RATE OLD'!$B$2="ALASKA",$C$10="MAX"),'FEDERAL RATES (HIDDEN)'!$L13,IF(AND('REIMBURSEMENT RATE OLD'!$B$2="HAWAII",$C$10="<60%"),'FEDERAL RATES (HIDDEN)'!$J18,IF(AND('REIMBURSEMENT RATE OLD'!$B$2="HAWAII",$C$10="≥60%"),'FEDERAL RATES (HIDDEN)'!$K18,IF(AND('REIMBURSEMENT RATE OLD'!$B$2="HAWAII",$C$10="MAX"),'FEDERAL RATES (HIDDEN)'!$L18,"")))))))))+IF($C$8="YES",0.07,0)+IF($C$9="YES",0.02,0) -> 3.55 | D12: 0 | E12: ='REIMBURSEMENT RATE OLD'!$C$12+D12 -> 3.55

Sheet LANDING PAGE
B10: Welcome to FRAC's Community Eligibility modeling tool. This calculator is designed to help you assess the potential financial benefits of exercising the Community Eligibility Provision in your district. Community eligibility is a powerful tool for high-poverty schools to provide breakfast and lunch at no charge to all students. Community eligibility reduces administrative paperwork for schools so they can focus on providing healthy meals to help students learn and thrive; increases school meal participation by removing stigma; maximizes federal reimbursements; and makes it easier to implement innovative service models like Breakfast in the Classroom.
B12: BEFORE YOU GET STARTED, it will be easiest and most accurate to use the tool and you have a few pieces of district information handy:
B13: 1) District average daily attendance
B14: 2) Your district's identified student percentage (ISP).
B15: For an explanation of ISP, click here.
B16: 3) Your current per meal reimbursement rates.
B17: 4) Your current per meal food and materials expenses.
B18: 5) Your current hourly labor rate.
B20: Once you have this information, click | G20: HERE | H20: to proceed.

Sheet INSTRUCTIONS
B10: INSTRUCTIONS:
B11: INPUT CELLS ARE INDICATED BY BOLD BLUE FONT.
B12: SPECIFIC NOTES AND GUIDANCE CAN BE FOUND IN POP-UP COMMENTS ADJACENT TO INPUT CELLS.
B13: WORKSHEETS CAN BE ACCESSED BY CLICKING ON THE HYPERLINKS BELOW OR WORKSHEET TABS IN THE RIBBON AT THE BOTTOM OF THE TOOL.
B15: HYPERLINKED TABLE OF CONTENTS:
B16: REIMBURSEMENTS AND REVENUES
B17: DISTRICT ENROLLMENT
B18: PARTICIPATION RATES
B19: FOOD & MATERIALS EXPENSE
B20: ADMINISTRATIVE LABOR ASSUMPTIONS
B21: DIRECT LABOR ASSUMPTIONS
B22: OTHER EXPENSES
... B24: CHARTS

Sheet REIMBURSEMENTS AND REVENUES
B2: SELECT YOUR GEOGRAPHIC REGION: | C2: CONTIGUOUS US
B4: BREAKFAST | C4: FEDERAL REIMBURSEMENT | G4: SNACK / ALA CARTE
B5: REIMBURSEMENT LEVEL | C5: SEVERE NEED | D5: STATE / LOCAL REIMBURSEMENT | E5: TOTAL REIMBURSEMENT | G5: REIMBURSEMENT LEVEL | H5: FEDERAL REIMBURSEMENT | I5: STATE / LOCAL REIMBURSEMENT | J5: TOTAL REIMBURSEMENT
B6: FREE REIMBURSEMENT RATE | C6: =IF(AND($C$2="ALASKA",$C$5="SEVERE NEED"),'FEDERAL RATES (HIDDEN)'!$C$7, IF(AND($C$2="ALASKA",$C$5="NON-SEVERE NEED"),'FEDERAL RATES (HIDDEN)'!$E$7, IF(AND($C$2="HAWAII/PUERTO RICO",$C$5="SEVERE NEED"),'FEDERAL RATES (HIDDEN)'!$C$8, IF(AND($C$2="HAWAII/PUERTO RICO",$C$5="SEVERE NEED"),'FEDERAL RATES (HIDDEN)'!$E$8, IF(AND($C$2="CONTIGUOUS US",$C$5="SEVERE NEED"),'FEDERAL RATES (HIDDEN)'!$C$6,'FEDERAL RATES (HIDDEN)'!$E$6))))) -> 2.2 | D6: 0 | E6: =C6+D6 -> 2.2 | G6: FREE RATE | H6: =IF($C$2="ALASKA",'FEDERAL RATES (HIDDEN)'!$C$12,IF($C$2="HAWAII/PUERTO RICO",'FEDERAL RATES (HIDDEN)'!$C$13,'FEDERAL RATES (HIDDEN)'!$C$11)) -> 0.94 | I6: 0 | J6: =H6+I6 -> 0.94
B7: REDUCED REIMBURSEMENT RATE | C7: =IF(AND($C$2="ALASKA",$C$5="SEVERE NEED"),'FEDERAL RATES (HIDDEN)'!$D$7, IF(AND($C$2="ALASKA",$C$5="NON-SEVERE NEED"),'FEDERAL RATES (HIDDEN)'!$F$7, IF(AND($C$2="HAWAII/PUERTO RICO",$C$5="SEVERE NEED"),'FEDERAL RATES (HIDDEN)'!$D$8, IF(AND($C$2="HAWAII/PUERTO RICO",$C$5="SEVERE NEED"),'FEDERAL RATES (HIDDEN)'!$F$8, IF(AND($C$2="CONTIGUOUS US",$C$5="SEVERE NEED"),'FEDERAL RATES (HIDDEN)'!$D$6,'FEDERAL RATES (HIDDEN)'!$F$6))))) -> 1.9 | D7: 0 | E7: =C7+D7 -> 1.9 | G7: REDUCED RATE | H7: =IF($C$2="ALASKA",'FEDERAL RATES (HIDDEN)'!$D$12,IF($C$2="HAWAII/PUERTO RICO",'FEDERAL RATES (HIDDEN)'!$D$13,'FEDERAL RATES (HIDDEN)'!$D$11)) -> 0.47 | I7: 0 | J7: =H7+I7 -> 0.47
B8: PAID REIMBURSEMENT RATE | C8: =IF($C$2="ALASKA",'FEDERAL RATES (HIDDEN)'!$G$7, IF($C$2="HAWAII/PUERTO RICO",'FEDERAL RATES (HIDDEN)'!$G$8, 'FEDERAL RATES (HIDDEN)'!$G$6)) -> 0.31 | D8: 0 | E8: =C8+D8 -> 0.31 | G8: PAID RATE | H8: =IF($C$2="ALASKA",'FEDERAL RATES (HIDDEN)'!$E$12,IF($C$2="HAWAII/PUERTO RICO",'FEDERAL RATES (HIDDEN)'!$E$13,'FEDERAL RATES (HIDDEN)'!$E$11)) -> 0.08 | I8: 0 | J8: =H8+I8 -> 0.08
B9: PAID BREAKFAST PRICE | C9: 0 | G9: AVERAGE ALA CARTE PRICE | H9: 1
B11: LUNCH | C11: FEDERAL REIMBURSEMENT | G11: SUPPER
B12: DISTRICT QUALIFIES FOR ADDITIONAL $0.07? | C12: NO | G12: REIMBURSEMENT LEVEL | H12: FEDERAL REIMBURSEMENT | I12: STATE / LOCAL REIMBURSEMENT | J12: TOTAL REIMBURSEMENT
B13: REIMBURSEMENT LEVEL | C13: <60% | D13: STATE / LOCAL REIMBURSEMENT | E13: TOTAL REIMBURSEMENT | G13: FREE RATE | H13: =IF($C$2="ALASKA",'FEDERAL RATES (HIDDEN)'!$C$17,IF($C$2="HAWAII/PUERTO RICO",'FEDERAL RATES (HIDDEN)'!$C$18,'FEDERAL RATES (HIDDEN)'!$C$16)) -> 3.41 | I13: 0 | J13: =H13+I13 -> 3.41
B14: FREE RATE | C14: =IF(C12="YES", 'FEDERAL RATES (HIDDEN)'!$J$2+(IF(AND($C$2="ALASKA",$C$13="≥60%"),'FEDERAL RATES (HIDDEN)'!$K$13, IF(AND($C$2="ALASKA",$C$13="<60%"),'FEDERAL RATES (HIDDEN)'!$J$13, IF(AND($C$2="HAWAII/PUERTO RICO",$C$13="≥60%"),'FEDERAL RATES (HIDDEN)'!$K$18, IF(AND($C$2="HAWAII/PUERTO RICO",$C$13="<60%"),'FEDERAL RATES (HIDDEN)'!$J$18, IF(AND($C$2="CONTIGUOUS US",$C$13="≥60%"),'FEDERAL RATES (HIDDEN)'!$K$8,'FEDERAL RATES (HIDDEN)'!$J$8)))))), (IF(AND($C$2="ALASKA",$C$13="≥60%"),'FEDERAL RATES (HIDDEN)'!$K$13, IF(AND($C$2="ALASKA",$C$13="<60%"),'FEDERAL RATES (HIDDEN)'!$J$13, IF(AND($C$2="HAWAII/PUERTO RICO",$C$13="≥60%"),'FEDERAL RATES (HIDDEN)'!$K$18, IF(AND($C$2="HAWAII/PUERTO RICO",$C$13="<60%"),'FEDERAL RATES (HIDDEN)'!$J$18, IF(AND($C$2="CONTIGUOUS US",$C$13="≥60%"),'FEDERAL RATES (HIDDEN)'!$K$8,'FEDERAL RATES (HIDDEN)'!$J$8))))))) -> 3.41 | D14: 0 | E14: =C14+D14 -> 3.41 | G14: REDUCED RATE | H14: =IF($C$2="ALASKA",'FEDERAL RATES (HIDDEN)'!$D$17,IF($C$2="HAWAII/PUERTO RICO",'FEDERAL RATES (HIDDEN)'!$D$18,'FEDERAL RATES (HIDDEN)'!$D$16)) -> 3.01 | I14: 0 | J14: =H14+I14 -> 3.01
B15: REDUCED RATE | C15: =IF(C12="YES", 'FEDERAL RATES (HIDDEN)'!$J$2+(IF(AND($C$2="ALASKA",$C$13="≥60%"),'FEDERAL RATES (HIDDEN)'!$K$12, IF(AND($C$2="ALASKA",$C$13="<60%"),'FEDERAL RATES (HIDDEN)'!$J$12, IF(AND($C$2="HAWAII/PUERTO RICO",$C$13="≥60%"),'FEDERAL RATES (HIDDEN)'!$K$17, IF(AND($C$2="HAWAII/PUERTO RICO",$C$13="<60%"),'FEDERAL RATES (HIDDEN)'!$J$17, IF(AND($C$2="CONTIGUOUS US",$C$13="≥60%"),'FEDERAL RATES (HIDDEN)'!$K$7,'FEDERAL RATES (HIDDEN)'!$J$7)))))), (IF(AND($C$2="ALASKA",$C$13="≥60%"),'FEDERAL RATES (HIDDEN)'!$K$12, IF(AND($C$2="ALASKA",$C$13="<60%"),'FEDERAL RATES (HIDDEN)'!$J$12, IF(AND($C$2="HAWAII/PUERTO RICO",$C$13="≥60%"),'FEDERAL RATES (HIDDEN)'!$K$17, IF(AND($C$2="HAWAII/PUERTO RICO",$C$13="<60%"),'FEDERAL RATES (HIDDEN)'!$J$17, IF(AND($C$2="CONTIGUOUS US",$C$13="≥60%"),'FEDERAL RATES (HIDDEN)'!$K$7,'FEDERAL RATES (HIDDEN)'!$J$7))))))) -> 3.01 | D15: 0 | E15: =C15+D15 -> 3.01 | G15: PAID RATE | H15: =IF($C$2="ALASKA",'FEDERAL RATES (HIDDEN)'!$E$17,IF($C$2="HAWAII/PUERTO RICO",'FEDERAL RATES (HIDDEN)'!$E$18,'FEDERAL RATES (HIDDEN)'!$E$16)) -> 0.32 | I15: 0 | J15: =H15+I15 -> 0.32
B16: PAID RATE | C16: =IF(C12="YES", 'FEDERAL RATES (HIDDEN)'!$J$2+(IF(AND($C$2="ALASKA",$C$13="≥60%"),'FEDERAL RATES (HIDDEN)'!$K$11, IF(AND($C$2="ALASKA",$C$13="<60%"),'FEDERAL RATES (HIDDEN)'!$J$11, IF(AND($C$2="HAWAII/PUERTO RICO",$C$13="≥60%"),'FEDERAL RATES (HIDDEN)'!$K$16, IF(AND($C$2="HAWAII/PUERTO RICO",$C$13="<60%"),'FEDERAL RATES (HIDDEN)'!$J$16, IF(AND($C$2="CONTIGUOUS US",$C$13="≥60%"),'FEDERAL RATES (HIDDEN)'!$K$6,'FEDERAL RATES (HIDDEN)'!$J$6)))))), (IF(AND($C$2="ALASKA",$C$13="≥60%"),'FEDERAL RATES (HIDDEN)'!$K$11, IF(AND($C$2="ALASKA",$C$13="<60%"),'FEDERAL RATES (HIDDEN)'!$J$11, IF(AND($C$2="HAWAII/PUERTO RICO",$C$13="≥60%"),'FEDERAL RATES (HIDDEN)'!$K$16, IF(AND($C$2="HAWAII/PUERTO RICO",$C$13="<60%"),'FEDERAL RATES (HIDDEN)'!$J$16, IF(AND($C$2="CONTIGUOUS US",$C$13="≥60%"),'FEDERAL RATES (HIDDEN)'!$K$6,'FEDERAL RATES (HIDDEN)'!$J$6))))))) -> 0.32 | D16: 0 | E16: =C16+D16 -> 0.32
B17: PAID LUNCH PRICE | C17: 0
B19: ANNUAL OPERATING DAYS | C19: 180
B21: CLICK HERE TO RETURN TO THE PREVIOUS PAGE | H21: CLICK HERE TO ADVANCE TO THE NEXT PAGE

Sheet test

Sheet ENROLLMENT
B1: ENROLLMENT | C1: STATUS QUO | E1: CEP COMPARISON | I1: STATUS QUO | K1: CEP COMPARISON | O1: STATUS QUO | Q1: CEP COMPARISON
B2: SCHOOL TYPE #1 | C2: TOTAL | E2: NON-CEP SCHOOLS | F2: CEP SCHOOLS | H2: SCHOOL TYPE #2 | I2: TOTAL | K2: NON-CEP SCHOOLS | L2: CEP SCHOOLS | N2: DISTRICT SUMMARY | O2: TOTAL | Q2: NON-CEP SCHOOLS | R2: CEP SCHOOLS
B3: CEP GROUP ISP% | F3: 0 | H3: CEP GROUP ISP% | L3: 0 | N3: FREE MEAL ELIGIBLE STUDENTS | O3: =SUM(C4,I4,C15,I15) -> 0 | Q3: =SUM(E4,K4,E15,K15) -> 0 | R3: =SUM(F4,L4,F15,L15) -> 0
B4: FREE MEAL ELIGIBLE STUDENTS | C4: 0 | E4: 0 | F4: =ROUND(F8*F7,0) -> 0 | H4: FREE MEAL ELIGIBLE STUDENTS | I4: 0 | K4: 0 | L4: =ROUND(L8*L7,0) -> 0 | N4: REDUCED PRICE MEAL ELIGIBLE STUDENTS | O4: =SUM(C5,I5,C16,I16) -> 0 | Q4: =SUM(E5,K5,E16,K16) -> 0 | R4: 0
B5: REDUCED PRICE MEAL ELIGIBLE STUDENTS | C5: 0 | E5: 0 | F5: 0 | H5: REDUCED PRICE MEAL ELIGIBLE STUDENTS | I5: 0 | K5: 0 | L5: 0 | N5: PAID MEAL ELIGIBLE STUDENTS | O5: =SUM(C6,I6,C17,I17) -> 0 | Q5: =SUM(E6,K6,E17,K17) -> 0 | R5: =SUM(F6,L6,F17,L17) -> 0
B6: PAID MEAL ELIGIBLE STUDENTS | C6: 0 | E6: 0 | F6: =F7-F4 -> 0 | H6: PAID MEAL ELIGIBLE STUDENTS | I6: 0 | K6: 0 | L6: =L7-L4 -> 0 | N6: TOTAL ENROLLMENT | O6: =SUM(C7,I7,C18,I18) -> 0 | Q6: =SUM(E7,K7,E18,K18) -> 0 | R6: =SUM(F7,L7,F18,L18) -> 0
B7: TOTAL ENROLLMENT | C7: =SUM(C4:C6) -> 0 | E7: =SUM(E4:E6) -> 0 | F7: =C7-E7 -> 0 | H7: TOTAL ENROLLMENT | I7: =SUM(I4:I6) -> 0 | K7: =SUM(K4:K6) -> 0 | L7: =I7-K7 -> 0 | N7: % FREE | O7: =IF(OR(O$6=0,O3=0),0,O3/O$6) -> 0 | Q7: =IF(OR(Q$6=0,Q3=0),0,Q3/Q$6) -> 0 | R7: =IF(OR(R$6=0,R3=0),0,R3/R$6) -> 0
B8: % FREE | C8: =IF(OR(C$7=0,C4=0),0,C4/C$7) -> 0 | E8: =IF(OR(E$7=0,E4=0),0,E4/E$7) -> 0 | F8: =IF(ROUND(F3,4)<0.4,ROUND(F3,4),ROUND(MIN(1,F3*'FEDERAL RATES (HIDDEN)'!$C$2),4)) -> 0 | H8: % FREE | I8: =IF(OR(C$7=0,I4=0),0,I4/C$7) -> 0 | K8: =IF(OR(E$7=0,K4=0),0,K4/E$7) -> 0 | L8: =IF(ROUND(L3,4)<0.4,ROUND(L3,4),ROUND(MIN(1,L3*'FEDERAL RATES (HIDDEN)'!$C$2),4)) -> 0 | N8: % REDUCED | O8: =IF(OR(O$6=0,O4=0),0,O4/O$6) -> 0 | Q8: =IF(OR(Q$6=0,Q4=0),0,Q4/Q$6) -> 0 | R8: 0
B9: % REDUCED | C9: =IF(OR(C$7=0,C5=0),0,C5/C$7) -> 0 | E9: =IF(OR(E$7=0,E5=0),0,E5/E$7) -> 0 | F9: 0 | H9: % REDUCED | I9: =IF(OR(C$7=0,I5=0),0,I5/C$7) -> 0 | K9: =IF(OR(E$7=0,K5=0),0,K5/E$7) -> 0 | L9: 0 | N9: % PAID | O9: =IF(OR(O$6=0,O5=0),0,O5/O$6) -> 0 | Q9: =IF(OR(Q$6=0,Q5=0),0,Q5/Q$6) -> 0 | R9: =IF(OR(R$6=0,R5=0),0,R5/R$6) -> 0
B10: % PAID | C10: =IF(OR(C$7=0,C6=0),0,C6/C$7) -> 0 | E10: =IF(OR(E$7=0,E6=0),0,E6/E$7) -> 0 | F10: =IF(F7=0,0,1-F8) -> 0 | H10: % PAID | I10: =IF(OR(C$7=0,I6=0),0,I6/C$7) -> 0 | K10: =IF(OR(E$7=0,K6=0),0,K6/E$7) -> 0 | L10: =IF(L7=0,0,1-L8) -> 0
C12: STATUS QUO | E12: CEP COMPARISON | I12: STATUS QUO | K12: CEP COMPARISON
B13: SCHOOL TYPE #3 | C13: TOTAL | E13: NON-CEP SCHOOLS | F13: CEP SCHOOLS | H13: SCHOOL TYPE #4 | I13: TOTAL | K13: NON-CEP SCHOOLS | L13: CEP SCHOOLS | N13: CLICK HERE TO RETURN TO THE PREVIOUS PAGE
B14: CEP GROUP ISP% | F14: 0 | H14: CEP GROUP ISP% | L14: 0
B15: FREE MEAL ELIGIBLE STUDENTS | C15: 0 | E15: 0 | F15: =ROUND(F19*F18,0) -> 0 | H15: FREE MEAL ELIGIBLE STUDENTS | I15: 0 | K15: 0 | L15: =ROUND(L19*L18,0) -> 0
B16: REDUCED PRICE MEAL ELIGIBLE STUDENTS | C16: 0 | E16: 0 | F16: 0 | H16: REDUCED PRICE MEAL ELIGIBLE STUDENTS | I16: 0 | K16: 0 | L16: 0
B17: PAID MEAL ELIGIBLE STUDENTS | C17: 0 | E17: 0 | F17: =F18-F15 -> 0 | H17: PAID MEAL ELIGIBLE STUDENTS | I17: 0 | K17: 0 | L17: =L18-L15 -> 0
B18: TOTAL ENROLLMENT | C18: =SUM(C15:C17) -> 0 | E18: =SUM(E15:E17) -> 0 | F18: =C18-E18 -> 0 | H18: TOTAL ENROLLMENT | I18: =SUM(I15:I17) -> 0 | K18: =SUM(K15:K17) -> 0 | L18: =I18-K18 -> 0
B19: % FREE | C19: =IF(OR(C$18=0,C15=0),0,C15/C$18) -> 0 | E19: =IF(OR(E$18=0,E15=0),0,E15/E$18) -> 0 | F19: =IF(ROUND(F14,4)<0.4,ROUND(F14,4),ROUND(MIN(1,F14*'FEDERAL RATES (HIDDEN)'!$C$2),4)) -> 0 | H19: % FREE | I19: =IF(OR(C$18=0,I15=0),0,I15/C$18) -> 0 | K19: =IF(OR(E$18=0,K15=0),0,K15/E$18) -> 0 | L19: =IF(ROUND(L14,4)<0.4,ROUND(L14,4),ROUND(MIN(1,L14*'FEDERAL RATES (HIDDEN)'!$C$2),4)) -> 0
B20: % REDUCED | C20: =IF(OR(C$18=0,C16=0),0,C16/C$18) -> 0 | E20: =IF(OR(E$18=0,E16=0),0,E16/E$18) -> 0 | F20: 0 | H20: % REDUCED | I20: =IF(OR(C$18=0,I16=0),0,I16/C$18) -> 0 | K20: =IF(OR(E$18=0,K16=0),0,K16/E$18) -> 0 | L20: 0
B21: % PAID | C21: =IF(OR(C$18=0,C17=0),0,C17/C$18) -> 0 | E21: =IF(OR(E$18=0,E17=0),0,E17/E$18) -> 0 | F21: =IF(F18=0,0,1-F19) -> 0 | H21: % PAID | I21: =IF(OR(C$18=0,I17=0),0,I17/C$18) -> 0 | K21: =IF(OR(E$18=0,K17=0),0,K17/E$18) -> 0 | L21: =IF(L18=0,0,1-L19) -> 0 | N21: CLICK HERE TO ADVANCE TO THE NEXT PAGE

Sheet PARTICIPATION RATES
B1: PARTICIPATION RATES | D1: STATUS QUO | F1: CEP COMPARISON | J1: STATUS QUO | L1: CEP COMPARISON | P1: STATUS QUO | R1: CEP COMPARISON
C2: =ENROLLMENT!B2 -> SCHOOL TYPE #1 | D2: TOTAL | F2: NON-CEP SCHOOLS | G2: CEP SCHOOLS | I2: =ENROLLMENT!H2 -> SCHOOL TYPE #2 | J2: TOTAL | L2: NON-CEP SCHOOLS | M2: CEP SCHOOLS | O2: DISTRICT SUMMARY | P2: TOTAL | R2: NON-CEP SCHOOLS | S2: CEP SCHOOLS
C3: AVERAGE DAILY ATTENDANCE | D3: 1 | F3: 1 | G3: 1 | I3: AVERAGE DAILY ATTENDANCE | J3: 1 | L3: 1 | M3: 1 | O3: AVERAGE DAILY ATTENDANCE | P3: =IF(P4=0,0,P4/ENROLLMENT!O6) -> 0 | R3: =IF(R4=0,0,R4/ENROLLMENT!Q6) -> 0 | S3: =IF(S4=0,0,S4/ENROLLMENT!R6) -> 0
C4: DAILY STUDENTS PRESENT | D4: =ROUND(ENROLLMENT!C7*'PARTICIPATION RATES'!$D$3,0) -> 0 | F4: =ROUND(ENROLLMENT!E7*'PARTICIPATION RATES'!$F$3,0) -> 0 | G4: =ROUND(ENROLLMENT!F7*'PARTICIPATION RATES'!$G$3,0) -> 0 | I4: DAILY STUDENTS PRESENT | J4: =ROUND(ENROLLMENT!I7*'PARTICIPATION RATES'!$J$3,0) -> 0 | L4: =ROUND(ENROLLMENT!K7*'PARTICIPATION RATES'!$L$3,0) -> 0 | M4: =ROUND(ENROLLMENT!L7*'PARTICIPATION RATES'!$M$3,0) -> 0 | O4: DAILY STUDENTS PRESENT | P4: =SUM(D4,J4,D14,J14) -> 0 | R4: =SUM(F4,L4,F14,L14) -> 0 | S4: =SUM(G4,M4,G14,M14) -> 0
C5: BREAKFAST PARTICIPATION AVERAGE | D5: 1 | F5: 1 | G5: 1 | I5: BREAKFAST PARTICIPATION AVERAGE | J5: 1 | L5: 1 | M5: =L5 -> 1 | O5: BREAKFAST PARTICIPATION AVERAGE | P5: =IF(P$4=0,0,(ROUND(D$4*D5,0)+ROUND(J$4*J5,0)+ROUND(D$14*D15,0)+ROUND(J$14*J15,0))/P$4) -> 0 | R5: =IF(R$4=0,0,(ROUND(F$4*F5,0)+ROUND(L$4*L5,0)+ROUND(F$14*F15,0)+ROUND(L$14*L15,0))/R$4) -> 0 | S5: =IF(S$4=0,0,(ROUND(G$4*G5,0)+ROUND(M$4*M5,0)+ROUND(G$14*G15,0)+ROUND(M$14*M15,0))/S$4) -> 0
C6: SNACK PARTICIPATION AVERAGE | D6: 1 | F6: 1 | G6: 1 | I6: SNACK PARTICIPATION AVERAGE | J6: 1 | L6: 1 | M6: =L6 -> 1 | O6: SNACK PARTICIPATION AVERAGE | P6: =IF(P$4=0,0,(ROUND(D$4*D6,0)+ROUND(J$4*J6,0)+ROUND(D$14*D16,0)+ROUND(J$14*J16,0))/P$4) -> 0 | R6: =IF(R$4=0,0,(ROUND(F$4*F6,0)+ROUND(L$4*L6,0)+ROUND(F$14*F16,0)+ROUND(L$14*L16,0))/R$4) -> 0 | S6: =IF(S$4=0,0,(ROUND(G$4*G6,0)+ROUND(M$4*M6,0)+ROUND(G$14*G16,0)+ROUND(M$14*M16,0))/S$4) -> 0
C7: LUNCH PARTICIPATION AVERAGE | D7: 1 | F7: 1 | G7: 1 | I7: LUNCH PARTICIPATION AVERAGE | J7: 1 | L7: 1 | M7: =L7 -> 1 | O7: LUNCH PARTICIPATION AVERAGE | P7: =IF(P$4=0,0,(ROUND(D$4*D7,0)+ROUND(J$4*J7,0)+ROUND(D$14*D17,0)+ROUND(J$14*J17,0))/P$4) -> 0 | R7: =IF(R$4=0,0,(ROUND(F$4*F7,0)+ROUND(L$4*L7,0)+ROUND(F$14*F17,0)+ROUND(L$14*L17,0))/R$4) -> 0 | S7: =IF(S$4=0,0,(ROUND(G$4*G7,0)+ROUND(M$4*M7,0)+ROUND(G$14*G17,0)+ROUND(M$14*M17,0))/S$4) -> 0
C8: SUPPER PARTICIPATION AVERAGE | D8: 1 | F8: 1 | G8: 1 | I8: SUPPER PARTICIPATION AVERAGE | J8: 1 | L8: 1 | M8: =L8 -> 1 | O8: SUPPER PARTICIPATION AVERAGE | P8: =IF(P$4=0,0,(ROUND(D$4*D8,0)+ROUND(J$4*J8,0)+ROUND(D$14*D18,0)+ROUND(J$14*J18,0))/P$4) -> 0 | R8: =IF(R$4=0,0,(ROUND(F$4*F8,0)+ROUND(L$4*L8,0)+ROUND(F$14*F18,0)+ROUND(L$14*L18,0))/R$4) -> 0 | S8: =IF(S$4=0,0,(ROUND(G$4*G8,0)+ROUND(M$4*M8,0)+ROUND(G$14*G18,0)+ROUND(M$14*M18,0))/S$4) -> 0
C9: ALA CARTE PARTICIPATION AVERAGE | D9: 1 | F9: 1 | G9: 1 | I9: ALA CARTE PARTICIPATION AVERAGE | J9: 1 | L9: 1 | M9: =L9 -> 1 | O9: ALA CARTE PARTICIPATION AVERAGE | P9: =IF(P$4=0,0,(ROUND(D$4*D9,0)+ROUND(J$4*J9,0)+ROUND(D$14*D19,0)+ROUND(J$14*J19,0))/P$4) -> 0 | R9: =IF(R$4=0,0,(ROUND(F$4*F9,0)+ROUND(L$4*L9,0)+ROUND(F$14*F19,0)+ROUND(L$14*L19,0))/R$4) -> 0 | S9: =IF(S$4=0,0,(ROUND(G$4*G9,0)+ROUND(M$4*M9,0)+ROUND(G$14*G19,0)+ROUND(M$14*M19,0))/S$4) -> 0
C10: AVERAGE DAILY MEAL EQUIVALENTS | D10: =ROUND(D4*D5*(2/3),0)+ROUND(D4*D6*(1/3),0)+ROUND(D4*D7,0)+ROUND(D4*D8,0)+ROUND(('REIMBURSEMENTS AND REVENUES'!$H$9*D4*D9)/('REIMBURSEMENTS AND REVENUES'!$E$14+'FEDERAL RATES (HIDDEN)'!$C$20),0) -> 0 | F10: =ROUND(F4*F5*(2/3),0)+ROUND(F4*F6*(1/3),0)+ROUND(F4*F7,0)+ROUND(F4*F8,0)+ROUND(('REIMBURSEMENTS AND REVENUES'!$H$9*F4*F9)/('REIMBURSEMENTS AND REVENUES'!$E$14+'FEDERAL RATES (HIDDEN)'!$C$20),0) -> 0 | G10: =ROUND(G4*G5*(2/3),0)+ROUND(G4*G6*(1/3),0)+ROUND(G4*G7,0)+ROUND(G4*G8,0)+ROUND(('REIMBURSEMENTS AND REVENUES'!$H$9*G4*G9)/('REIMBURSEMENTS AND REVENUES'!$E$14+'FEDERAL RATES (HIDDEN)'!$C$20),0) -> 0 | I10: AVERAGE DAILY MEAL EQUIVALENTS | J10: =ROUND(J4*J5*(2/3),0)+ROUND(J4*J6*(1/3),0)+ROUND(J4*J7,0)+ROUND(J4*J8,0)+ROUND(('REIMBURSEMENTS AND REVENUES'!$H$9*J4*J9)/('REIMBURSEMENTS AND REVENUES'!$E$14+'FEDERAL RATES (HIDDEN)'!$C$20),0) -> 0 | L10: =ROUND(L4*L5*(2/3),0)+ROUND(L4*L6*(1/3),0)+ROUND(L4*L7,0)+ROUND(L4*L8,0)+ROUND(('REIMBURSEMENTS AND REVENUES'!$H$9*L4*L9)/('REIMBURSEMENTS AND REVENUES'!$E$14+'FEDERAL RATES (HIDDEN)'!$C$20),0) -> 0 | M10: =ROUND(M4*M5*(2/3),0)+ROUND(M4*M6*(1/3),0)+ROUND(M4*M7,0)+ROUND(M4*M8,0)+ROUND(('REIMBURSEMENTS AND REVENUES'!$H$9*M4*M9)/('REIMBURSEMENTS AND REVENUES'!$E$14+'FEDERAL RATES (HIDDEN)'!$C$20),0) -> 0 | O10: AVERAGE DAILY MEAL EQUIVALENTS | P10: =SUM(D10,J10,D20,J20) -> 0 | R10: =SUM(F10,L10,F20,L20) -> 0 | S10: =SUM(G10,M10,G20,M20) -> 0
D11: STATUS QUO | F11: CEP COMPARISON | J11: STATUS QUO | L11: CEP COMPARISON
C12: =ENROLLMENT!B13 -> SCHOOL TYPE #3 | D12: TOTAL | F12: NON-CEP SCHOOLS | G12: CEP SCHOOLS | I12: =ENROLLMENT!H13 -> SCHOOL TYPE #4 | J12: TOTAL | L12: NON-CEP SCHOOLS | M12: CEP SCHOOLS | O12: CLICK HERE TO RETURN TO THE PREVIOUS PAGE
C13: AVERAGE DAILY ATTENDANCE | D13: 1 | F13: 1 | G13: 1 | I13: AVERAGE DAILY ATTENDANCE | J13: 1 | L13: 1 | M13: 1
C14: DAILY STUDENTS PRESENT | D14: =ROUND(ENROLLMENT!C18*'PARTICIPATION RATES'!$D$13,0) -> 0 | F14: =ROUND(ENROLLMENT!E18*'PARTICIPATION RATES'!$F$13,0) -> 0 | G14: =ROUND(ENROLLMENT!F18*'PARTICIPATION RATES'!$G$13,0) -> 0 | I14: DAILY STUDENTS PRESENT | J14: =ROUND(ENROLLMENT!I18*'PARTICIPATION RATES'!$J$13,0) -> 0 | L14: =ROUND(ENROLLMENT!K18*'PARTICIPATION RATES'!$L$13,0) -> 0 | M14: =ROUND(ENROLLMENT!L18*'PARTICIPATION RATES'!$M$13,0) -> 0
C15: BREAKFAST PARTICIPATION AVERAGE | D15: 1 | F15: 1 | G15: =F15 -> 1 | I15: BREAKFAST PARTICIPATION AVERAGE | J15: 1 | L15: 1 | M15: =L15 -> 1
C16: SNACK PARTICIPATION AVERAGE | D16: 1 | F16: 1 | G16: =F16 -> 1 | I16: SNACK PARTICIPATION AVERAGE | J16: 1 | L16: 1 | M16: =L16 -> 1
C17: LUNCH PARTICIPATION AVERAGE | D17: 1 | F17: 1 | G17: =F17 -> 1 | I17: LUNCH PARTICIPATION AVERAGE | J17: 1 | L17: 1 | M17: =L17 -> 1
C18: SUPPER PARTICIPATION AVERAGE | D18: 1 | F18: 1 | G18: =F18 -> 1 | I18: SUPPER PARTICIPATION AVERAGE | J18: 1 | L18: 1 | M18: =L18 -> 1
C19: ALA CARTE PARTICIPATION AVERAGE | D19: 1 | F19: 1 | G19: =F19 -> 1 | I19: ALA CARTE PARTICIPATION AVERAGE | J19: 1 | L19: 1 | M19: =L19 -> 1
C20: AVERAGE DAILY MEAL EQUIVALENTS | D20: =ROUND(D14*D15*(2/3),0)+ROUND(D14*D16*(1/3),0)+ROUND(D14*D17,0)+ROUND(D14*D18,0)+ROUND(('REIMBURSEMENTS AND REVENUES'!$H$9*D14*D19)/('REIMBURSEMENTS AND REVENUES'!$E$14+'FEDERAL RATES (HIDDEN)'!$C$20),0) -> 0 | F20: =ROUND(F14*F15*(2/3),0)+ROUND(F14*F16*(1/3),0)+ROUND(F14*F17,0)+ROUND(F14*F18,0)+ROUND(('REIMBURSEMENTS AND REVENUES'!$H$9*F14*F19)/('REIMBURSEMENTS AND REVENUES'!$E$14+'FEDERAL RATES (HIDDEN)'!$C$20),0) -> 0 | G20: =ROUND(G14*G15*(2/3),0)+ROUND(G14*G16*(1/3),0)+ROUND(G14*G17,0)+ROUND(G14*G18,0)+ROUND(('REIMBURSEMENTS AND REVENUES'!$H$9*G14*G19)/('REIMBURSEMENTS AND REVENUES'!$E$14+'FEDERAL RATES (HIDDEN)'!$C$20),0) -> 0 | I20: AVERAGE DAILY MEAL EQUIVALENTS | J20: =ROUND(J14*J15*(2/3),0)+ROUND(J14*J16*(1/3),0)+ROUND(J14*J17,0)+ROUND(J14*J18,0)+ROUND(('REIMBURSEMENTS AND REVENUES'!$H$9*J14*J19)/('REIMBURSEMENTS AND REVENUES'!$E$14+'FEDERAL RATES (HIDDEN)'!$C$20),0) -> 0 | L20: =ROUND(L14*L15*(2/3),0)+ROUND(L14*L16*(1/3),0)+ROUND(L14*L17,0)+ROUND(L14*L18,0)+ROUND(('REIMBURSEMENTS AND REVENUES'!$H$9*L14*L19)/('REIMBURSEMENTS AND REVENUES'!$E$14+'FEDERAL RATES (HIDDEN)'!$C$20),0) -> 0 | M20: =ROUND(M14*M15*(2/3),0)+ROUND(M14*M16*(1/3),0)+ROUND(M14*M17,0)+ROUND(M14*M18,0)+ROUND(('REIMBURSEMENTS AND REVENUES'!$H$9*M14*M19)/('REIMBURSEMENTS AND REVENUES'!$E$14+'FEDERAL RATES (HIDDEN)'!$C$20),0) -> 0 | O20: CLICK HERE TO ADVANCE TO THE NEXT PAGE

Sheet FOOD & MATERIALS EXPENSE
B1: FOOD & MATERIALS EXPENSE ASSUMPTIONS
H2: STATUS QUO | J2: CEP COMPARISON
B3: AVERAGE PER MEAL FOOD COST | C3: STATUS QUO | E3: CEP COMPARISON | G3: ANNUAL FOOD EXPENSE BY MEAL TYPE | H3: TOTAL | J3: NON-CEP SCHOOLS | K3: CEP SCHOOLS
B4: BREAKFAST | C4: 0 | E4: 0 | G4: BREAKFAST | H4: =SUM(ROUND('PARTICIPATION RATES'!$D$4*'PARTICIPATION RATES'!$D$5,0),ROUND('PARTICIPATION RATES'!$J$4*'PARTICIPATION RATES'!$J5,0),ROUND('PARTICIPATION RATES'!$D$14*'PARTICIPATION RATES'!$D15,0),ROUND('PARTICIPATION RATES'!$J$14*'PARTICIPATION RATES'!$J15,0))*('FOOD & MATERIALS EXPENSE'!$C$4+'FOOD & MATERIALS EXPENSE'!$C$13)*'REIMBURSEMENTS AND REVENUES'!$C$19 -> 0 | J4: =SUM(ROUND('PARTICIPATION RATES'!$F$4*'PARTICIPATION RATES'!$F$5,0),ROUND('PARTICIPATION RATES'!$L$4*'PARTICIPATION RATES'!$L5,0),ROUND('PARTICIPATION RATES'!$F$14*'PARTICIPATION RATES'!$F15,0),ROUND('PARTICIPATION RATES'!$L$14*'PARTICIPATION RATES'!$L15,0))*('FOOD & MATERIALS EXPENSE'!$E$4+'FOOD & MATERIALS EXPENSE'!$E$13)*'REIMBURSEMENTS AND REVENUES'!$C$19 -> 0 | K4: =SUM(ROUND('PARTICIPATION RATES'!$G$4*'PARTICIPATION RATES'!$G$5,0),ROUND('PARTICIPATION RATES'!$M$4*'PARTICIPATION RATES'!$M5,0),ROUND('PARTICIPATION RATES'!$G$14*'PARTICIPATION RATES'!$G15,0),ROUND('PARTICIPATION RATES'!$M$14*'PARTICIPATION RATES'!$M15,0))*('FOOD & MATERIALS EXPENSE'!$E$4+'FOOD & MATERIALS EXPENSE'!$E$13)*'REIMBURSEMENTS AND REVENUES'!$C$19 -> 0
B5: SNACK | C5: 0 | E5: =C5 -> 0 | G5: SNACK | H5: =SUM(ROUND('PARTICIPATION RATES'!D$4*'PARTICIPATION RATES'!D6,0),ROUND('PARTICIPATION RATES'!J$4*'PARTICIPATION RATES'!J6,0),ROUND('PARTICIPATION RATES'!D$14*'PARTICIPATION RATES'!D16,0),ROUND('PARTICIPATION RATES'!J$14*'PARTICIPATION RATES'!J16,0))*('FOOD & MATERIALS EXPENSE'!C5+'FOOD & MATERIALS EXPENSE'!C14)*'REIMBURSEMENTS AND REVENUES'!$C$19 -> 0 | J5: =SUM(ROUND('PARTICIPATION RATES'!F$4*'PARTICIPATION RATES'!F6,0),ROUND('PARTICIPATION RATES'!L$4*'PARTICIPATION RATES'!L6,0),ROUND('PARTICIPATION RATES'!F$14*'PARTICIPATION RATES'!F16,0),ROUND('PARTICIPATION RATES'!L$14*'PARTICIPATION RATES'!L16,0))*('FOOD & MATERIALS EXPENSE'!E5+'FOOD & MATERIALS EXPENSE'!E14)*'REIMBURSEMENTS AND REVENUES'!$C$19 -> 0 | K5: =SUM(ROUND('PARTICIPATION RATES'!G$4*'PARTICIPATION RATES'!G6,0),ROUND('PARTICIPATION RATES'!M$4*'PARTICIPATION RATES'!M6,0),ROUND('PARTICIPATION RATES'!G$14*'PARTICIPATION RATES'!G16,0),ROUND('PARTICIPATION RATES'!M$14*'PARTICIPATION RATES'!M16,0))*('FOOD & MATERIALS EXPENSE'!E5+'FOOD & MATERIALS EXPENSE'!E14)*'REIMBURSEMENTS AND REVENUES'!$C$19 -> 0
B6: LUNCH | C6: 0 | E6: =C6 -> 0 | G6: LUNCH | H6: =SUM(ROUND('PARTICIPATION RATES'!D$4*'PARTICIPATION RATES'!D7,0),ROUND('PARTICIPATION RATES'!J$4*'PARTICIPATION RATES'!J7,0),ROUND('PARTICIPATION RATES'!D$14*'PARTICIPATION RATES'!D17,0),ROUND('PARTICIPATION RATES'!J$14*'PARTICIPATION RATES'!J17,0))*('FOOD & MATERIALS EXPENSE'!C6+'FOOD & MATERIALS EXPENSE'!C15)*'REIMBURSEMENTS AND REVENUES'!$C$19 -> 0 | J6: =SUM(ROUND('PARTICIPATION RATES'!F$4*'PARTICIPATION RATES'!F7,0),ROUND('PARTICIPATION RATES'!L$4*'PARTICIPATION RATES'!L7,0),ROUND('PARTICIPATION RATES'!F$14*'PARTICIPATION RATES'!F17,0),ROUND('PARTICIPATION RATES'!L$14*'PARTICIPATION RATES'!L17,0))*('FOOD & MATERIALS EXPENSE'!E6+'FOOD & MATERIALS EXPENSE'!E15)*'REIMBURSEMENTS AND REVENUES'!$C$19 -> 0 | K6: =SUM(ROUND('PARTICIPATION RATES'!G$4*'PARTICIPATION RATES'!G7,0),ROUND('PARTICIPATION RATES'!M$4*'PARTICIPATION RATES'!M7,0),ROUND('PARTICIPATION RATES'!G$14*'PARTICIPATION RATES'!G17,0),ROUND('PARTICIPATION RATES'!M$14*'PARTICIPATION RATES'!M17,0))*('FOOD & MATERIALS EXPENSE'!E6+'FOOD & MATERIALS EXPENSE'!E15)*'REIMBURSEMENTS AND REVENUES'!$C$19 -> 0
B7: SUPPER | C7: 0 | E7: =C7 -> 0 | G7: SUPPER | H7: =SUM(ROUND('PARTICIPATION RATES'!D$4*'PARTICIPATION RATES'!D8,0),ROUND('PARTICIPATION RATES'!J$4*'PARTICIPATION RATES'!J8,0),ROUND('PARTICIPATION RATES'!D$14*'PARTICIPATION RATES'!D18,0),ROUND('PARTICIPATION RATES'!J$14*'PARTICIPATION RATES'!J18,0))*('FOOD & MATERIALS EXPENSE'!C7+'FOOD & MATERIALS EXPENSE'!C16)*'REIMBURSEMENTS AND REVENUES'!$C$19 -> 0 | J7: =SUM(ROUND('PARTICIPATION RATES'!F$4*'PARTICIPATION RATES'!F8,0),ROUND('PARTICIPATION RATES'!L$4*'PARTICIPATION RATES'!L8,0),ROUND('PARTICIPATION RATES'!F$14*'PARTICIPATION RATES'!F18,0),ROUND('PARTICIPATION RATES'!L$14*'PARTICIPATION RATES'!L18,0))*('FOOD & MATERIALS EXPENSE'!E7+'FOOD & MATERIALS EXPENSE'!E16)*'REIMBURSEMENTS AND REVENUES'!$C$19 -> 0 | K7: =SUM(ROUND('PARTICIPATION RATES'!G$4*'PARTICIPATION RATES'!G8,0),ROUND('PARTICIPATION RATES'!M$4*'PARTICIPATION RATES'!M8,0),ROUND('PARTICIPATION RATES'!G$14*'PARTICIPATION RATES'!G18,0),ROUND('PARTICIPATION RATES'!M$14*'PARTICIPATION RATES'!M18,0))*('FOOD & MATERIALS EXPENSE'!E7+'FOOD & MATERIALS EXPENSE'!E16)*'REIMBURSEMENTS AND REVENUES'!$C$19 -> 0
B8: ALA CARTE | C8: 0 | E8: 0 | G8: ALA CARTE | H8: =SUM(ROUND('PARTICIPATION RATES'!D$4*'PARTICIPATION RATES'!D9,0),ROUND('PARTICIPATION RATES'!J$4*'PARTICIPATION RATES'!J9,0),ROUND('PARTICIPATION RATES'!D$14*'PARTICIPATION RATES'!D19,0),ROUND('PARTICIPATION RATES'!J$14*'PARTICIPATION RATES'!J19,0))*('FOOD & MATERIALS EXPENSE'!C8+'FOOD & MATERIALS EXPENSE'!C17)*'REIMBURSEMENTS AND REVENUES'!$C$19 -> 0 | J8: =SUM(ROUND('PARTICIPATION RATES'!F$4*'PARTICIPATION RATES'!F9,0),ROUND('PARTICIPATION RATES'!L$4*'PARTICIPATION RATES'!L9,0),ROUND('PARTICIPATION RATES'!F$14*'PARTICIPATION RATES'!F19,0),ROUND('PARTICIPATION RATES'!L$14*'PARTICIPATION RATES'!L19,0))*('FOOD & MATERIALS EXPENSE'!E8+'FOOD & MATERIALS EXPENSE'!E17)*'REIMBURSEMENTS AND REVENUES'!$C$19 -> 0 | K8: =SUM(ROUND('PARTICIPATION RATES'!G$4*'PARTICIPATION RATES'!G9,0),ROUND('PARTICIPATION RATES'!M$4*'PARTICIPATION RATES'!M9,0),ROUND('PARTICIPATION RATES'!G$14*'PARTICIPATION RATES'!G19,0),ROUND('PARTICIPATION RATES'!M$14*'PARTICIPATION RATES'!M19,0))*('FOOD & MATERIALS EXPENSE'!E8+'FOOD & MATERIALS EXPENSE'!E17)*'REIMBURSEMENTS AND REVENUES'!$C$19 -> 0
G9: ANNUAL TOTAL | H9: =SUM('FOOD & MATERIALS EXPENSE'!H5:H8) -> 0 | J9: =SUM('FOOD & MATERIALS EXPENSE'!J5:J8) -> 0 | K9: =SUM('FOOD & MATERIALS EXPENSE'!K5:K8) -> 0
J11: CEP COMPARISON
B12: AVERAGE PER MEAL MATERIALS COST | C12: STATUS QUO | E12: CEP COMPARISON | G12: OVERVIEW BY GRADE LEVEL | H12: TOTAL | J12: NON-CEP SCHOOLS | K12: CEP SCHOOLS
B13: BREAKFAST | C13: 0 | E13: =C13 -> 0 | G13: =ENROLLMENT!B2 -> SCHOOL TYPE #1 | H13: =((ROUND('PARTICIPATION RATES'!D$4*'PARTICIPATION RATES'!D$5,0)*(C$4+C$13))+(ROUND('PARTICIPATION RATES'!D$4*'PARTICIPATION RATES'!D$6,0)*(C$5+C$14))+(ROUND('PARTICIPATION RATES'!D$4*'PARTICIPATION RATES'!D$7,0)*(C$6+C$15))+(ROUND('PARTICIPATION RATES'!D$4*'PARTICIPATION RATES'!D$8,0)*(C$7+C$16))+(ROUND('PARTICIPATION RATES'!D$4*'PARTICIPATION RATES'!D$9,0)*(C$8+C$17)))*'REIMBURSEMENTS AND REVENUES'!$C$19 -> 0 | J13: =((ROUND('PARTICIPATION RATES'!F$4*'PARTICIPATION RATES'!F$5,0)*(E$4+E$13))+(ROUND('PARTICIPATION RATES'!F$4*'PARTICIPATION RATES'!F$6,0)*(E$5+E$14))+(ROUND('PARTICIPATION RATES'!F$4*'PARTICIPATION RATES'!F$7,0)*(E$6+E$15))+(ROUND('PARTICIPATION RATES'!F$4*'PARTICIPATION RATES'!F$8,0)*(E$7+E$16))+(ROUND('PARTICIPATION RATES'!F$4*'PARTICIPATION RATES'!F$9,0)*(E$8+E$17)))*'REIMBURSEMENTS AND REVENUES'!$C$19 -> 0 | K13: =((ROUND('PARTICIPATION RATES'!G$4*'PARTICIPATION RATES'!G$5,0)*(E$4+E$13))+(ROUND('PARTICIPATION RATES'!G$4*'PARTICIPATION RATES'!G$6,0)*(E$5+E$14))+(ROUND('PARTICIPATION RATES'!G$4*'PARTICIPATION RATES'!G$7,0)*(E$6+E$15))+(ROUND('PARTICIPATION RATES'!G$4*'PARTICIPATION RATES'!G$8,0)*(E$7+E$16))+(ROUND('PARTICIPATION RATES'!G$4*'PARTICIPATION RATES'!G$9,0)*(E$8+E$17)))*'REIMBURSEMENTS AND REVENUES'!$C$19 -> 0
B14: SNACK | C14: 0 | E14: =C14 -> 0 | G14: =ENROLLMENT!H2 -> SCHOOL TYPE #2 | H14: =((ROUND('PARTICIPATION RATES'!J$4*'PARTICIPATION RATES'!J$5,0)*(C$4+C$13))+(ROUND('PARTICIPATION RATES'!J$4*'PARTICIPATION RATES'!J$6,0)*(C$5+C$14))+(ROUND('PARTICIPATION RATES'!J$4*'PARTICIPATION RATES'!J$7,0)*(C$6+C$15))+(ROUND('PARTICIPATION RATES'!J$4*'PARTICIPATION RATES'!J$8,0)*(C$7+C$16))+(ROUND('PARTICIPATION RATES'!J$4*'PARTICIPATION RATES'!J$9,0)*(C$8+C$17)))*'REIMBURSEMENTS AND REVENUES'!$C$19 -> 0 | J14: =((ROUND('PARTICIPATION RATES'!L$4*'PARTICIPATION RATES'!L$5,0)*(E$4+E$13))+(ROUND('PARTICIPATION RATES'!L$4*'PARTICIPATION RATES'!L$6,0)*(E$5+E$14))+(ROUND('PARTICIPATION RATES'!L$4*'PARTICIPATION RATES'!L$7,0)*(E$6+E$15))+(ROUND('PARTICIPATION RATES'!L$4*'PARTICIPATION RATES'!L$8,0)*(E$7+E$16))+(ROUND('PARTICIPATION RATES'!L$4*'PARTICIPATION RATES'!L$9,0)*(E$8+E$17)))*'REIMBURSEMENTS AND REVENUES'!$C$19 -> 0 | K14: =((ROUND('PARTICIPATION RATES'!M$4*'PARTICIPATION RATES'!M$5,0)*(E$4+E$13))+(ROUND('PARTICIPATION RATES'!M$4*'PARTICIPATION RATES'!M$6,0)*(E$5+E$14))+(ROUND('PARTICIPATION RATES'!M$4*'PARTICIPATION RATES'!M$7,0)*(E$6+E$15))+(ROUND('PARTICIPATION RATES'!M$4*'PARTICIPATION RATES'!M$8,0)*(E$7+E$16))+(ROUND('PARTICIPATION RATES'!M$4*'PARTICIPATION RATES'!M$9,0)*(E$8+E$17)))*'REIMBURSEMENTS AND REVENUES'!$C$19 -> 0
B15: LUNCH | C15: 0 | E15: =C15 -> 0 | G15: =ENROLLMENT!B13 -> SCHOOL TYPE #3 | H15: =((ROUND('PARTICIPATION RATES'!D$14*'PARTICIPATION RATES'!D$15,0)*('FOOD & MATERIALS EXPENSE'!C$4+'FOOD & MATERIALS EXPENSE'!C$13))+(ROUND('PARTICIPATION RATES'!D$14*'PARTICIPATION RATES'!D$16,0)*('FOOD & MATERIALS EXPENSE'!C$5+'FOOD & MATERIALS EXPENSE'!C$14))+(ROUND('PARTICIPATION RATES'!D$14*'PARTICIPATION RATES'!D$17,0)*('FOOD & MATERIALS EXPENSE'!C$6+'FOOD & MATERIALS EXPENSE'!C$15))+(ROUND('PARTICIPATION RATES'!D$14*'PARTICIPATION RATES'!D$18,0)*('FOOD & MATERIALS EXPENSE'!C$7+'FOOD & MATERIALS EXPENSE'!C$16))+(ROUND('PARTICIPATION RATES'!D$14*'PARTICIPATION RATES'!D$19,0)*('FOOD & MATERIALS EXPENSE'!C$8+'FOOD & MATERIALS EXPENSE'!C$17)))*'REIMBURSEMENTS AND REVENUES'!$C$19 -> 0 | J15: =((ROUND('PARTICIPATION RATES'!F$14*'PARTICIPATION RATES'!F$15,0)*('FOOD & MATERIALS EXPENSE'!E$4+'FOOD & MATERIALS EXPENSE'!E$13))+(ROUND('PARTICIPATION RATES'!F$14*'PARTICIPATION RATES'!F$16,0)*('FOOD & MATERIALS EXPENSE'!E$5+'FOOD & MATERIALS EXPENSE'!E$14))+(ROUND('PARTICIPATION RATES'!F$14*'PARTICIPATION RATES'!F$17,0)*('FOOD & MATERIALS EXPENSE'!E$6+'FOOD & MATERIALS EXPENSE'!E$15))+(ROUND('PARTICIPATION RATES'!F$14*'PARTICIPATION RATES'!F$18,0)*('FOOD & MATERIALS EXPENSE'!E$7+'FOOD & MATERIALS EXPENSE'!E$16))+(ROUND('PARTICIPATION RATES'!F$14*'PARTICIPATION RATES'!F$19,0)*('FOOD & MATERIALS EXPENSE'!E$8+'FOOD & MATERIALS EXPENSE'!E$17)))*'REIMBURSEMENTS AND REVENUES'!$C$19 -> 0 | K15: =((ROUND('PARTICIPATION RATES'!G$14*'PARTICIPATION RATES'!G$15,0)*('FOOD & MATERIALS EXPENSE'!E$4+'FOOD & MATERIALS EXPENSE'!E$13))+(ROUND('PARTICIPATION RATES'!G$14*'PARTICIPATION RATES'!G$16,0)*('FOOD & MATERIALS EXPENSE'!E$5+'FOOD & MATERIALS EXPENSE'!E$14))+(ROUND('PARTICIPATION RATES'!G$14*'PARTICIPATION RATES'!G$17,0)*('FOOD & MATERIALS EXPENSE'!E$6+'FOOD & MATERIALS EXPENSE'!E$15))+(ROUND('PARTICIPATION RATES'!G$14*'PARTICIPATION RATES'!G$18,0)*('FOOD & MATERIALS EXPENSE'!E$7+'FOOD & MATERIALS EXPENSE'!E$16))+(ROUND('PARTICIPATION RATES'!G$14*'PARTICIPATION RATES'!G$19,0)*('FOOD & MATERIALS EXPENSE'!E$8+'FOOD & MATERIALS EXPENSE'!E$17)))*'REIMBURSEMENTS AND REVENUES'!$C$19 -> 0
B16: SUPPER | C16: 0 | E16: =C16 -> 0 | G16: =ENROLLMENT!H13 -> SCHOOL TYPE #4 | H16: =((ROUND('PARTICIPATION RATES'!J$14*'PARTICIPATION RATES'!J$15,0)*('FOOD & MATERIALS EXPENSE'!C$4+'FOOD & MATERIALS EXPENSE'!C$13))+(ROUND('PARTICIPATION RATES'!J$14*'PARTICIPATION RATES'!J$16,0)*('FOOD & MATERIALS EXPENSE'!C$5+'FOOD & MATERIALS EXPENSE'!C$14))+(ROUND('PARTICIPATION RATES'!J$14*'PARTICIPATION RATES'!J$17,0)*('FOOD & MATERIALS EXPENSE'!C$6+'FOOD & MATERIALS EXPENSE'!C$15))+(ROUND('PARTICIPATION RATES'!J$14*'PARTICIPATION RATES'!J$18,0)*('FOOD & MATERIALS EXPENSE'!C$7+'FOOD & MATERIALS EXPENSE'!C$16))+(ROUND('PARTICIPATION RATES'!J$14*'PARTICIPATION RATES'!J$19,0)*('FOOD & MATERIALS EXPENSE'!C$8+'FOOD & MATERIALS EXPENSE'!C$17)))*'REIMBURSEMENTS AND REVENUES'!$C$19 -> 0 | J16: =((ROUND('PARTICIPATION RATES'!L$14*'PARTICIPATION RATES'!L$15,0)*('FOOD & MATERIALS EXPENSE'!E$4+'FOOD & MATERIALS EXPENSE'!E$13))+(ROUND('PARTICIPATION RATES'!L$14*'PARTICIPATION RATES'!L$16,0)*('FOOD & MATERIALS EXPENSE'!E$5+'FOOD & MATERIALS EXPENSE'!E$14))+(ROUND('PARTICIPATION RATES'!L$14*'PARTICIPATION RATES'!L$17,0)*('FOOD & MATERIALS EXPENSE'!E$6+'FOOD & MATERIALS EXPENSE'!E$15))+(ROUND('PARTICIPATION RATES'!L$14*'PARTICIPATION RATES'!L$18,0)*('FOOD & MATERIALS EXPENSE'!E$7+'FOOD & MATERIALS EXPENSE'!E$16))+(ROUND('PARTICIPATION RATES'!L$14*'PARTICIPATION RATES'!L$19,0)*('FOOD & MATERIALS EXPENSE'!E$8+'FOOD & MATERIALS EXPENSE'!E$17)))*'REIMBURSEMENTS AND REVENUES'!$C$19 -> 0 | K16: =((ROUND('PARTICIPATION RATES'!M$14*'PARTICIPATION RATES'!M$15,0)*('FOOD & MATERIALS EXPENSE'!E$4+'FOOD & MATERIALS EXPENSE'!E$13))+(ROUND('PARTICIPATION RATES'!M$14*'PARTICIPATION RATES'!M$16,0)*('FOOD & MATERIALS EXPENSE'!E$5+'FOOD & MATERIALS EXPENSE'!E$14))+(ROUND('PARTICIPATION RATES'!M$14*'PARTICIPATION RATES'!M$17,0)*('FOOD & MATERIALS EXPENSE'!E$6+'FOOD & MATERIALS EXPENSE'!E$15))+(ROUND('PARTICIPATION RATES'!M$14*'PARTICIPATION RATES'!M$18,0)*('FOOD & MATERIALS EXPENSE'!E$7+'FOOD & MATERIALS EXPENSE'!E$16))+(ROUND('PARTICIPATION RATES'!M$14*'PARTICIPATION RATES'!M$19,0)*('FOOD & MATERIALS EXPENSE'!E$8+'FOOD & MATERIALS EXPENSE'!E$17)))*'REIMBURSEMENTS AND REVENUES'!$C$19 -> 0
B17: ALA CARTE | C17: 0 | E17: =C17 -> 0 | G17: ANNUAL TOTAL | H17: =SUM(H13:H14) -> 0 | J17: =SUM(J13:J14) -> 0 | K17: =SUM(K13:K14) -> 0
B19: CLICK HERE TO RETURN TO THE PREVIOUS PAGE | G19: CLICK HERE TO ADVANCE TO THE NEXT PAGE

Sheet ADMIN LABOR ASSUMPTIONS
B1: ADMINISTRATIVE LABOR ASSUMPTIONS | C1: STATUS QUO | E1: CEP COMPARISON
B2: =ENROLLMENT!B2 -> SCHOOL TYPE #1 | C2: TOTAL | E2: NON-CEP SCHOOLS | F2: CEP SCHOOLS | H2: CLICK HERE TO RETURN TO THE PREVIOUS PAGE
B3: AVG DAILY NON-DIRECTOR ADMINISTRATIVE LABOR HOURS | C3: 0 | E3: 0 | F3: 0
B4: ANNUAL NON-DIRECTOR ADMIN HOURS SPENT PROCESSING F/R APPLICATIONS | C4: 0 | E4: 0
B5: ADMINISTRATIVE LABOR HOURLY WAGE | C5: 0 | E5: 0 | F5: 0
B6: ANNUAL ADMINISTRATIVE WAGE EXPENSE | C6: =('REIMBURSEMENTS AND REVENUES'!$C$19*'ADMIN LABOR ASSUMPTIONS'!C3*'ADMIN LABOR ASSUMPTIONS'!C5)+('ADMIN LABOR ASSUMPTIONS'!C4*'ADMIN LABOR ASSUMPTIONS'!C5) -> 0 | E6: =('REIMBURSEMENTS AND REVENUES'!$C$19*'ADMIN LABOR ASSUMPTIONS'!E3*'ADMIN LABOR ASSUMPTIONS'!E5)+('ADMIN LABOR ASSUMPTIONS'!E4*'ADMIN LABOR ASSUMPTIONS'!E5) -> 0 | F6: =('REIMBURSEMENTS AND REVENUES'!$C$19*'ADMIN LABOR ASSUMPTIONS'!F3*'ADMIN LABOR ASSUMPTIONS'!F5)+('ADMIN LABOR ASSUMPTIONS'!F4*'ADMIN LABOR ASSUMPTIONS'!F5) -> 0
B7: =ENROLLMENT!H2 -> SCHOOL TYPE #2
B8: AVG DAILY NON-DIRECTOR ADMINISTRATIVE LABOR HOURS | C8: 0 | E8: 0 | F8: 0
B9: ANNUAL ADMIN HOURS SPENT PROCESSING F/R APPLICATIONS | C9: 0 | E9: 0
B10: ADMINISTRATIVE LABOR HOURLY WAGE | C10: 0 | E10: 0 | F10: 0
B11: ANNUAL ADMINISTRATIVE WAGE EXPENSE | C11: =('REIMBURSEMENTS AND REVENUES'!$C$19*C8*C10)+(C9*C10) -> 0 | E11: =('REIMBURSEMENTS AND REVENUES'!$C$19*E8*E10)+(E9*E10) -> 0 | F11: =('REIMBURSEMENTS AND REVENUES'!$C$19*F8*F10)+(F9*F10) -> 0
B12: =ENROLLMENT!B13 -> SCHOOL TYPE #3
B13: AVG DAILY NON-DIRECTOR ADMINISTRATIVE LABOR HOURS | C13: 0 | E13: 0 | F13: 0
B14: ANNUAL ADMIN HOURS SPENT PROCESSING F/R APPLICATIONS | C14: 0 | E14: 0
B15: ADMINISTRATIVE LABOR HOURLY WAGE | C15: 0 | E15: 0 | F15: 0
B16: ANNUAL ADMINISTRATIVE WAGE EXPENSE | C16: =('REIMBURSEMENTS AND REVENUES'!$C$19*C13*C15)+(C14*C15) -> 0 | E16: =('REIMBURSEMENTS AND REVENUES'!$C$19*E13*E15)+(E14*E15) -> 0 | F16: =('REIMBURSEMENTS AND REVENUES'!$C$19*F13*F15)+(F14*F15) -> 0
B17: =ENROLLMENT!H13 -> SCHOOL TYPE #4
B18: AVG DAILY NON-DIRECTOR ADMINISTRATIVE LABOR HOURS | C18: 0 | E18: 0 | F18: 0
B19: ANNUAL ADMIN HOURS SPENT PROCESSING F/R APPLICATIONS | C19: 0 | E19: 0
B20: ADMINISTRATIVE LABOR HOURLY WAGE | C20: 0 | E20: 0 | F20: 0
B21: ANNUAL ADMINISTRATIVE WAGE EXPENSE | C21: =('REIMBURSEMENTS AND REVENUES'!$C$19*'ADMIN LABOR ASSUMPTIONS'!C18*'ADMIN LABOR ASSUMPTIONS'!C20)+('ADMIN LABOR ASSUMPTIONS'!C19*'ADMIN LABOR ASSUMPTIONS'!C20) -> 0 | E21: =('REIMBURSEMENTS AND REVENUES'!$C$19*'ADMIN LABOR ASSUMPTIONS'!E18*'ADMIN LABOR ASSUMPTIONS'!E20)+('ADMIN LABOR ASSUMPTIONS'!E19*'ADMIN LABOR ASSUMPTIONS'!E20) -> 0 | F21: =('REIMBURSEMENTS AND REVENUES'!$C$19*'ADMIN LABOR ASSUMPTIONS'!F18*'ADMIN LABOR ASSUMPTIONS'!F20)+('ADMIN LABOR ASSUMPTIONS'!F19*'ADMIN LABOR ASSUMPTIONS'!F20) -> 0
B23: FOOD SERVICE DIRECTOR ANNUAL SALARY | C23: 0 | E23: =IF($C$23=0,0,$C$23*(ENROLLMENT!$Q$6/SUM(ENROLLMENT!$Q$6:$R$6))) -> 0 | F23: =IF($C$23=0,0,$C$23*(ENROLLMENT!$R$6/SUM(ENROLLMENT!$Q$6:$R$6))) -> 0
B25: BENEFIT % | C25: 0
B26: FICA / PAYROLL TAX % | C26: 0 | H26: CLICK HERE TO ADVANCE TO THE NEXT PAGE

Sheet DIRECT LABOR ASSUMPTIONS
B1: DIRECT LABOR ASSUMPTIONS
C2: STATUS QUO | E2: CEP COMPARISON | I2: STATUS QUO | K2: CEP COMPARISON | O2: STATUS QUO | Q2: CEP COMPARISON
B3: =ENROLLMENT!B2 -> SCHOOL TYPE #1 | C3: TOTAL | E3: NON-CEP SCHOOLS | F3: CEP SCHOOLS | H3: =ENROLLMENT!B13 -> SCHOOL TYPE #3 | I3: TOTAL | K3: NON-CEP SCHOOLS | L3: CEP SCHOOLS | N3: OVERVIEW | O3: TOTAL | Q3: NON-CEP SCHOOLS | R3: CEP SCHOOLS
B4: MEAL SERVICE TYPE | C4: CONVENTIONAL SYSTEM | E4: CONVENTIONAL SYSTEM | F4: CONVENTIONAL SYSTEM | H4: MEAL SERVICE TYPE | I4: CONVENTIONAL SYSTEM | K4: CONVENTIONAL SYSTEM | L4: CONVENTIONAL SYSTEM | N4: AVERAGE DAILY HOURS | O4: =SUM(C5,C14,I5,I14) -> 0 | Q4: =SUM(E5,E14,K5,K14) -> 0 | R4: =SUM(F5,F14,L5,L14) -> 0
B5: TOTAL AVERAGE DAILY HOURS | C5: 0 | E5: 0 | F5: 0 | H5: TOTAL AVERAGE DAILY HOURS | I5: 0 | K5: 0 | L5: 0 | N5: MEALS PER LABOR HOUR | O5: =IF(OR( 'PARTICIPATION RATES'!P10=0,O4=0),0,'PARTICIPATION RATES'!P10/O4) -> 0 | Q5: =IF(OR( 'PARTICIPATION RATES'!R10=0,Q4=0),0,'PARTICIPATION RATES'!R10/Q4) -> 0 | R5: =IF(OR( 'PARTICIPATION RATES'!S10=0,R4=0),0,'PARTICIPATION RATES'!S10/R4) -> 0
B6: MEALS PER LABOR HOUR | C6: =IF(C5=0,0,'PARTICIPATION RATES'!D10/C5) -> 0 | E6: =IF(E5=0,0,'PARTICIPATION RATES'!F10/E5) -> 0 | F6: =IF(F5=0,0,'PARTICIPATION RATES'!G10/F5) -> 0 | H6: MEALS PER LABOR HOUR | I6: =IF(I5=0,0,'PARTICIPATION RATES'!D20/I5) -> 0 | K6: =IF(K5=0,0,'PARTICIPATION RATES'!F20/K5) -> 0 | L6: =IF(L5=0,0,'PARTICIPATION RATES'!G20/L5) -> 0 | N6: MPLH GOAL RANGE | O6: =IF(AND('PARTICIPATION RATES'!$P$10>='MPLH COMPS'!$B$3,'PARTICIPATION RATES'!$P$10<='MPLH COMPS'!$C$3),'MPLH COMPS'!$D$3&" - "&'MPLH COMPS'!$G$3, IF(AND('PARTICIPATION RATES'!$P$10>='MPLH COMPS'!$B$4,'PARTICIPATION RATES'!$P$10<='MPLH COMPS'!$C$4),'MPLH COMPS'!$D$4&" - "&'MPLH COMPS'!$G$4, IF(AND('PARTICIPATION RATES'!$P$10>='MPLH COMPS'!$B$5,'PARTICIPATION RATES'!$P$10<='MPLH COMPS'!$C$5),'MPLH COMPS'!$D$5&" - "&'MPLH COMPS'!$G$5, IF(AND('PARTICIPATION RATES'!$P$10>='MPLH COMPS'!$B$6,'PARTICIPATION RATES'!$P$10<='MPLH COMPS'!$C$6),'MPLH COMPS'!$D$6&" - "&'MPLH COMPS'!$G$6, IF(AND('PARTICIPATION RATES'!$P$10>='MPLH COMPS'!$B$7,'PARTICIPATION RATES'!$P$10<='MPLH COMPS'!$C$7),'MPLH COMPS'!$D$7&" - "&'MPLH COMPS'!$G$7, IF(AND('PARTICIPATION RATES'!$P$10>='MPLH COMPS'!$B$8,'PARTICIPATION RATES'!$P$10<='MPLH COMPS'!$C$8),'MPLH COMPS'!$D$8&" - "&'MPLH COMPS'!$G$8, IF(AND('PARTICIPATION RATES'!$P$10>='MPLH COMPS'!$B$9,'PARTICIPATION RATES'!$P$10<='MPLH COMPS'!$C$9),'MPLH COMPS'!$D$9&" - "&'MPLH COMPS'!$G$9, IF(AND('PARTICIPATION RATES'!$P$10>='MPLH COMPS'!$B$10,'PARTICIPATION RATES'!$P$10<='MPLH COMPS'!$C$10),'MPLH COMPS'!$D$10&" - "&'MPLH COMPS'!$G$10, IF(AND('PARTICIPATION RATES'!$P$10>='MPLH COMPS'!$B$11,'PARTICIPATION RATES'!$P$10<='MPLH COMPS'!$C$11),'MPLH COMPS'!$D$11&" - "&'MPLH COMPS'!$G$11, IF(AND('PARTICIPATION RATES'!$P$10>='MPLH COMPS'!$B$12,'PARTICIPATION RATES'!$P$10<='MPLH COMPS'!$C$12),'MPLH COMPS'!$D$12&" - "&'MPLH COMPS'!$G$12, IF(AND('PARTICIPATION RATES'!$P$10>='MPLH COMPS'!$B$13,'PARTICIPATION RATES'!$P$10<='MPLH COMPS'!$C$13),'MPLH COMPS'!$D$13&" - "&'MPLH COMPS'!$G$13, ""))))))))))) | Q6: =IF(AND('PARTICIPATION RATES'!$R$10>='MPLH COMPS'!$B$3,'PARTICIPATION RATES'!$R$10<='MPLH COMPS'!$C$3),'MPLH COMPS'!$D$3&" - "&'MPLH COMPS'!$G$3, IF(AND('PARTICIPATION RATES'!$R$10>='MPLH COMPS'!$B$4,'PARTICIPATION RATES'!$R$10<='MPLH COMPS'!$C$4),'MPLH COMPS'!$D$4&" - "&'MPLH COMPS'!$G$4, IF(AND('PARTICIPATION RATES'!$R$10>='MPLH COMPS'!$B$5,'PARTICIPATION RATES'!$R$10<='MPLH COMPS'!$C$5),'MPLH COMPS'!$D$5&" - "&'MPLH COMPS'!$G$5, IF(AND('PARTICIPATION RATES'!$R$10>='MPLH COMPS'!$B$6,'PARTICIPATION RATES'!$R$10<='MPLH COMPS'!$C$6),'MPLH COMPS'!$D$6&" - "&'MPLH COMPS'!$G$6, IF(AND('PARTICIPATION RATES'!$R$10>='MPLH COMPS'!$B$7,'PARTICIPATION RATES'!$R$10<='MPLH COMPS'!$C$7),'MPLH COMPS'!$D$7&" - "&'MPLH COMPS'!$G$7, IF(AND('PARTICIPATION RATES'!$R$10>='MPLH COMPS'!$B$8,'PARTICIPATION RATES'!$R$10<='MPLH COMPS'!$C$8),'MPLH COMPS'!$D$8&" - "&'MPLH COMPS'!$G$8, IF(AND('PARTICIPATION RATES'!$R$10>='MPLH COMPS'!$B$9,'PARTICIPATION RATES'!$R$10<='MPLH COMPS'!$C$9),'MPLH COMPS'!$D$9&" - "&'MPLH COMPS'!$G$9, IF(AND('PARTICIPATION RATES'!$R$10>='MPLH COMPS'!$B$10,'PARTICIPATION RATES'!$R$10<='MPLH COMPS'!$C$10),'MPLH COMPS'!$D$10&" - "&'MPLH COMPS'!$G$10, IF(AND('PARTICIPATION RATES'!$R$10>='MPLH COMPS'!$B$11,'PARTICIPATION RATES'!$R$10<='MPLH COMPS'!$C$11),'MPLH COMPS'!$D$11&" - "&'MPLH COMPS'!$G$11, IF(AND('PARTICIPATION RATES'!$R$10>='MPLH COMPS'!$B$12,'PARTICIPATION RATES'!$R$10<='MPLH COMPS'!$C$12),'MPLH COMPS'!$D$12&" - "&'MPLH COMPS'!$G$12, IF(AND('PARTICIPATION RATES'!$R$10>='MPLH COMPS'!$B$13,'PARTICIPATION RATES'!$R$10<='MPLH COMPS'!$C$13),'MPLH COMPS'!$D$13&" - "&'MPLH COMPS'!$G$13, ""))))))))))) | R6: =IF(AND('PARTICIPATION RATES'!$S$10>='MPLH COMPS'!$B$3,'PARTICIPATION RATES'!$S$10<='MPLH COMPS'!$C$3),'MPLH COMPS'!$D$3&" - "&'MPLH COMPS'!$G$3, IF(AND('PARTICIPATION RATES'!$S$10>='MPLH COMPS'!$B$4,'PARTICIPATION RATES'!$S$10<='MPLH COMPS'!$C$4),'MPLH COMPS'!$D$4&" - "&'MPLH COMPS'!$G$4, IF(AND('PARTICIPATION RATES'!$S$10>='MPLH COMPS'!$B$5,'PARTICIPATION RATES'!$S$10<='MPLH COMPS'!$C$5),'MPLH COMPS'!$D$5&" - "&'MPLH COMPS'!$G$5, IF(AND('PARTICIPATION RATES'!$S$10>='MPLH COMPS'!$B$6,'PARTICIPATION RATES'!$S$10<='MPLH COMPS'!$C$6),'MPLH COMPS'!$D$6&" - "&'MPLH COMPS'!$G$6, IF(AND('PARTICIPATION RATES'!$S$10>='MPLH COMPS'!$B$7,'PARTICIPATION RATES'!$S$10<='MPLH COMPS'!$C$7),'MPLH COMPS'!$D$7&" - "&'MPLH COMPS'!$G$7, IF(AND('PARTICIPATION RATES'!$S$10>='MPLH COMPS'!$B$8,'PARTICIPATION RATES'!$S$10<='MPLH COMPS'!$C$8),'MPLH COMPS'!$D$8&" - "&'MPLH COMPS'!$G$8, IF(AND('PARTICIPATION RATES'!$S$10>='MPLH COMPS'!$B$9,'PARTICIPATION RATES'!$S$10<='MPLH COMPS'!$C$9),'MPLH COMPS'!$D$9&" - "&'MPLH COMPS'!$G$9, IF(AND('PARTICIPATION RATES'!$S$10>='MPLH COMPS'!$B$10,'PARTICIPATION RATES'!$S$10<='MPLH COMPS'!$C$10),'MPLH COMPS'!$D$10&" - "&'MPLH COMPS'!$G$10, IF(AND('PARTICIPATION RATES'!$S$10>='MPLH COMPS'!$B$11,'PARTICIPATION RATES'!$S$10<='MPLH COMPS'!$C$11),'MPLH COMPS'!$D$11&" - "&'MPLH COMPS'!$G$11, IF(AND('PARTICIPATION RATES'!$S$10>='MPLH COMPS'!$B$12,'PARTICIPATION RATES'!$S$10<='MPLH COMPS'!$C$12),'MPLH COMPS'!$D$12&" - "&'MPLH COMPS'!$G$12, IF(AND('PARTICIPATION RATES'!$S$10>='MPLH COMPS'!$B$13,'PARTICIPATION RATES'!$S$10<='MPLH COMPS'!$C$13),'MPLH COMPS'!$D$13&" - "&'MPLH COMPS'!$G$13, "")))))))))))
